BEGIN:VCALENDAR
VERSION:2.0
PRODID:-//Awaysis Bar &amp; Restaurant - ECPv6.15.20//NONSGML v1.0//EN
CALSCALE:GREGORIAN
METHOD:PUBLISH
X-WR-CALNAME:Awaysis Bar &amp; Restaurant
X-ORIGINAL-URL:https://awaysis.mx
X-WR-CALDESC:Events for Awaysis Bar &amp; Restaurant
REFRESH-INTERVAL;VALUE=DURATION:PT1H
X-Robots-Tag:noindex
X-PUBLISHED-TTL:PT1H
BEGIN:VTIMEZONE
TZID:America/Mexico_City
BEGIN:STANDARD
TZOFFSETFROM:-0600
TZOFFSETTO:-0600
TZNAME:CST
DTSTART:20250101T000000
END:STANDARD
END:VTIMEZONE
BEGIN:VEVENT
DTSTART;TZID=America/Mexico_City:20260408T160000
DTEND;TZID=America/Mexico_City:20260408T180000
DTSTAMP:20260421T074735
CREATED:20260304T223948Z
LAST-MODIFIED:20260408T145512Z
UID:10012885-1775664000-1775671200@awaysis.mx
SUMMARY:Live Acoustic Music: The Funky Sirens
DESCRIPTION:The Funky Sirens are a powerhouse funk/soul duo\, delivering sharp style\, vintage influence\, and undeniable groove. Featuring Kim Archer on vocals and guitar and Molly June Roquet on drums and vocals\, the pair blends honest edge with magnetic stage presence and vibrant performance energy.\nRooted in the warmth of classic funk\, their sound channels authentic textures\, driving rhythms\, and refined deliveries no matter the genre they’re playing. With tight musicianship\, bold aesthetics\, and electrifying chemistry\, The Funky Sirens create a dynamic live experience that is both timeless and fiercely contemporary.
URL:https://awaysis.mx/event/live-acoustic-music-the-funky-sirens/2026-04-08/
LOCATION:Awaysis\, Aquiles Serdán\, 625\, Puerto Vallarta\, Jal\, 48380\, Mexico
ATTACH;FMTTYPE=image/jpeg:https://awaysis.mx/wp-content/uploads/2026/03/Funky-Sirens.jpg
END:VEVENT
BEGIN:VEVENT
DTSTART;TZID=America/Mexico_City:20260408T193000
DTEND;TZID=America/Mexico_City:20260408T223000
DTSTAMP:20260421T074735
CREATED:20260304T222743Z
LAST-MODIFIED:20260408T151108Z
UID:10012844-1775676600-1775687400@awaysis.mx
SUMMARY:Live Music:  The Dirties
DESCRIPTION:The Dirties is a rock band that reinvents classics with a modern edge. With a repertoire of covers that pays tribute to giants like Pink Floyd\, Led Zeppelin\, Muse\, and System of a Down\, their sound fuses the intensity of alternative metal with the psychedelia and raw energy of hard rock. On stage\, The Dirties don’t just perform songs: they transform them with a fierce stage presence\, bold arrangements\, and a passion that electrifies the audience. They’re a band unafraid to cross genres\, break molds\, and revive the rebellious spirit of rock\, song after song. \nNO COVER CHARGE \n 
URL:https://awaysis.mx/event/special-event-awaysis-the-dirties-2/2026-04-08/
LOCATION:Awaysis\, Aquiles Serdán\, 625\, Puerto Vallarta\, Jal\, 48380\, Mexico
ATTACH;FMTTYPE=image/jpeg:https://awaysis.mx/wp-content/uploads/2026/03/Untitled-8.jpeg
END:VEVENT
END:VCALENDAR