BEGIN:VCALENDAR
VERSION:2.0
PRODID:-//Awaysis Bar &amp; Restaurant - ECPv6.15.20//NONSGML v1.0//EN
CALSCALE:GREGORIAN
METHOD:PUBLISH
X-WR-CALNAME:Awaysis Bar &amp; Restaurant
X-ORIGINAL-URL:https://awaysis.mx
X-WR-CALDESC:Events for Awaysis Bar &amp; Restaurant
REFRESH-INTERVAL;VALUE=DURATION:PT1H
X-Robots-Tag:noindex
X-PUBLISHED-TTL:PT1H
BEGIN:VTIMEZONE
TZID:America/Mexico_City
BEGIN:STANDARD
TZOFFSETFROM:-0600
TZOFFSETTO:-0600
TZNAME:CST
DTSTART:20250101T000000
END:STANDARD
END:VTIMEZONE
BEGIN:VEVENT
DTSTART;TZID=America/Mexico_City:20260411T150000
DTEND;TZID=America/Mexico_City:20260411T180000
DTSTAMP:20260421T073421
CREATED:20250917T230957Z
LAST-MODIFIED:20260408T152518Z
UID:10008764-1775919600-1775930400@awaysis.mx
SUMMARY:Live Music: Las Mambas
DESCRIPTION:Las Mambas deliver a clean\, classic rock punch with Yoalli Guerrero at the mic—bold vocals\, tight band\, and an effortless build from toe-taps to full-on dancing. Catch them on every Saturday at 3:00
URL:https://awaysis.mx/event/live-music-las-mambas-2/2026-04-11/
LOCATION:Awaysis\, Aquiles Serdán\, 625\, Puerto Vallarta\, Jal\, 48380\, Mexico
ATTACH;FMTTYPE=image/jpeg:https://awaysis.mx/wp-content/uploads/2025/09/Las-Mambas-2025-2026.jpeg
END:VEVENT
BEGIN:VEVENT
DTSTART;TZID=America/Mexico_City:20260411T190000
DTEND;TZID=America/Mexico_City:20260411T220000
DTSTAMP:20260421T073422
CREATED:20250917T231039Z
LAST-MODIFIED:20260408T151921Z
UID:10008708-1775934000-1775944800@awaysis.mx
SUMMARY:Live Music: Bobbi + The Others
DESCRIPTION:Dust off your dancing boots and be ready to two-step all evening with Bobbi and the Others country-rock band Saturdays 7-10pm
URL:https://awaysis.mx/event/live-music-bobbi-the-others-2/2026-04-11/
LOCATION:Awaysis\, Aquiles Serdán\, 625\, Puerto Vallarta\, Jal\, 48380\, Mexico
ATTACH;FMTTYPE=image/jpeg:https://awaysis.mx/wp-content/uploads/2025/09/att.jotpCMwUApjyTWoV5sAAoiVeCI99JGKalL_TgcVUhi8.png.jpeg
END:VEVENT
END:VCALENDAR