BEGIN:VCALENDAR
VERSION:2.0
PRODID:-//Awaysis Bar &amp; Restaurant - ECPv6.15.20//NONSGML v1.0//EN
CALSCALE:GREGORIAN
METHOD:PUBLISH
X-WR-CALNAME:Awaysis Bar &amp; Restaurant
X-ORIGINAL-URL:https://awaysis.mx
X-WR-CALDESC:Events for Awaysis Bar &amp; Restaurant
REFRESH-INTERVAL;VALUE=DURATION:PT1H
X-Robots-Tag:noindex
X-PUBLISHED-TTL:PT1H
BEGIN:VTIMEZONE
TZID:America/Mexico_City
BEGIN:STANDARD
TZOFFSETFROM:-0600
TZOFFSETTO:-0600
TZNAME:CST
DTSTART:20250101T000000
END:STANDARD
END:VTIMEZONE
BEGIN:VEVENT
DTSTART;TZID=America/Mexico_City:20260412T150000
DTEND;TZID=America/Mexico_City:20260412T180000
DTSTAMP:20260421T073329
CREATED:20251102T235425Z
LAST-MODIFIED:20260408T151950Z
UID:10009129-1776006000-1776016800@awaysis.mx
SUMMARY:Live Music: The Availables
DESCRIPTION:Sundays at 3:00 belong to The Availables. This is a live-music sweet spot: warm harmonies\, familiar songs reimagined\, and just enough groove to get the tables swaying. Whether you’re dropping in solo or rolling deep with friends\, The Availables deliver an afternoon set that feels like exactly where you’re meant to be. See you at Awaysis—every Sunday. #TheBarForEveryone
URL:https://awaysis.mx/event/live-music-the-availables-2/2026-04-12/
LOCATION:Awaysis\, Aquiles Serdán\, 625\, Puerto Vallarta\, Jal\, 48380\, Mexico
ATTACH;FMTTYPE=image/jpeg:https://awaysis.mx/wp-content/uploads/2025/11/Availables-2025-2026-1-3.jpeg
END:VEVENT
BEGIN:VEVENT
DTSTART;TZID=America/Mexico_City:20260412T190000
DTEND;TZID=America/Mexico_City:20260412T220000
DTSTAMP:20260421T073329
CREATED:20260123T234654Z
LAST-MODIFIED:20260316T191556Z
UID:10012750-1776020400-1776031200@awaysis.mx
SUMMARY:Special Fundraiser Event: A Night of Jazz with Salty Paw Orchestra to benefit IAMPV
DESCRIPTION:Join us for an evening of jazz and solidarity to benefit IAMPV – Instituto de Artes Musicales de Puerto Vallarta\nFeaturing Salty Paw Orchestra.\n\nTickets: 300 pesos available at the door online at: https://iampv.com.mx/en/events/
URL:https://awaysis.mx/event/special-fundraiser-event-a-night-of-jazz-with-salty-paw-orchestra-to-benefit-iampv/2026-04-12/
LOCATION:Awaysis\, Aquiles Serdán\, 625\, Puerto Vallarta\, Jal\, 48380\, Mexico
ATTACH;FMTTYPE=image/jpeg:https://awaysis.mx/wp-content/uploads/2026/01/2026-Awaysis-SPJO-04.12.26.jpg.jpeg
END:VEVENT
END:VCALENDAR