BEGIN:VCALENDAR
VERSION:2.0
PRODID:-//Awaysis Bar &amp; Restaurant - ECPv6.15.20//NONSGML v1.0//EN
CALSCALE:GREGORIAN
METHOD:PUBLISH
X-ORIGINAL-URL:https://awaysis.mx
X-WR-CALDESC:Events for Awaysis Bar &amp; Restaurant
REFRESH-INTERVAL;VALUE=DURATION:PT1H
X-Robots-Tag:noindex
X-PUBLISHED-TTL:PT1H
BEGIN:VTIMEZONE
TZID:America/Mexico_City
BEGIN:STANDARD
TZOFFSETFROM:-0600
TZOFFSETTO:-0600
TZNAME:CST
DTSTART:20250101T000000
END:STANDARD
END:VTIMEZONE
BEGIN:VEVENT
DTSTART;TZID=America/Mexico_City:20260502T190000
DTEND;TZID=America/Mexico_City:20260502T220000
DTSTAMP:20260421T075141
CREATED:20260413T185520Z
LAST-MODIFIED:20260413T185520Z
UID:10013374-1777748400-1777759200@awaysis.mx
SUMMARY:Live Music: Bobbi + The Other @ Awaysis Rio Bar
DESCRIPTION:Catch Bobbi and Rolando- with him on the guitar  in this amazing acoustical jam session in cool air conditioned comfort.  Saturdays  at 7:00pm
URL:https://awaysis.mx/event/live-music-bobbi-the-other-awaysis-rio-bar/2026-05-02/
LOCATION:Awaysis Rio Bar\, Rivera del Rio 166\, Puerto Vallarta\, Jalisco\, 48380\, Mexico
ATTACH;FMTTYPE=image/jpeg:https://awaysis.mx/wp-content/uploads/2026/04/Bobbi-Rio-Bar-2025-2.jpeg
END:VEVENT
END:VCALENDAR