BEGIN:VCALENDAR
VERSION:2.0
PRODID:-//Awaysis Bar &amp; Restaurant - ECPv6.15.20//NONSGML v1.0//EN
CALSCALE:GREGORIAN
METHOD:PUBLISH
X-ORIGINAL-URL:https://awaysis.mx
X-WR-CALDESC:Events for Awaysis Bar &amp; Restaurant
REFRESH-INTERVAL;VALUE=DURATION:PT1H
X-Robots-Tag:noindex
X-PUBLISHED-TTL:PT1H
BEGIN:VTIMEZONE
TZID:America/Mexico_City
BEGIN:STANDARD
TZOFFSETFROM:-0600
TZOFFSETTO:-0600
TZNAME:CST
DTSTART:20250101T000000
END:STANDARD
END:VTIMEZONE
BEGIN:VEVENT
DTSTART;TZID=America/Mexico_City:20260715T190000
DTEND;TZID=America/Mexico_City:20260715T213000
DTSTAMP:20260421T131858
CREATED:20260413T193318Z
LAST-MODIFIED:20260413T193347Z
UID:10013413-1784142000-1784151000@awaysis.mx
SUMMARY:Bingo @ Awaysis Rio Bar
DESCRIPTION:DROP-IN-BINGO\n\n\n\nPlay as many or as few games AND as many or as few faces per game as you want!\nEnjoy happy hour drink specials and 100 peso smashburgers!\n\n\n\n\n\nAwaysis Rio Bar helps support Campamento Escuela tortuguero
URL:https://awaysis.mx/event/bingo-awaysis-rio-bar-3/2026-07-15/
LOCATION:Awaysis\, Aquiles Serdán\, 625\, Puerto Vallarta\, Jal\, 48380\, Mexico
ATTACH;FMTTYPE=image/jpeg:https://awaysis.mx/wp-content/uploads/2026/04/Bingo-2-4.jpeg
END:VEVENT
END:VCALENDAR