BEGIN:VCALENDAR
VERSION:2.0
PRODID:-//Awaysis Bar &amp; Restaurant - ECPv6.15.20//NONSGML v1.0//EN
CALSCALE:GREGORIAN
METHOD:PUBLISH
X-WR-CALNAME:Awaysis Bar &amp; Restaurant
X-ORIGINAL-URL:https://awaysis.mx
X-WR-CALDESC:Events for Awaysis Bar &amp; Restaurant
REFRESH-INTERVAL;VALUE=DURATION:PT1H
X-Robots-Tag:noindex
X-PUBLISHED-TTL:PT1H
BEGIN:VTIMEZONE
TZID:America/Mexico_City
BEGIN:STANDARD
TZOFFSETFROM:-0600
TZOFFSETTO:-0600
TZNAME:CST
DTSTART:20250101T000000
END:STANDARD
END:VTIMEZONE
BEGIN:VEVENT
DTSTART;TZID=America/Mexico_City:20260616T190000
DTEND;TZID=America/Mexico_City:20260616T223000
DTSTAMP:20260421T151212
CREATED:20260408T150356Z
LAST-MODIFIED:20260408T153104Z
UID:10013350-1781636400-1781649000@awaysis.mx
SUMMARY:Karaoke Night @ Awaysis Rio Bar!
DESCRIPTION:Join us every Tuesday at the air conditioned Awaysis Rio Bar for Karaoke Night from 7-10:30pm with  host\, Carlos!
URL:https://awaysis.mx/event/karaoke-night-awaysis-rio-bar-2-2-2/2026-06-16/
LOCATION:Awaysis Rio Bar\, Rivera del Rio 166\, Puerto Vallarta\, Jalisco\, 48380\, Mexico
ATTACH;FMTTYPE=image/jpeg:https://awaysis.mx/wp-content/uploads/2025/04/karaoke-Carlos-promo.jpeg
END:VEVENT
BEGIN:VEVENT
DTSTART;TZID=America/Mexico_City:20260615T143000
DTEND;TZID=America/Mexico_City:20260615T170000
DTSTAMP:20260421T151212
CREATED:20260417T214707Z
LAST-MODIFIED:20260417T214707Z
UID:10013434-1781533800-1781542800@awaysis.mx
SUMMARY:Cribbage Tournaments @ Awaysis Rio Bar
DESCRIPTION:Monday Game Day at the air conditioned Awaysis Rio Bar! Come join us at 2:30 for some fun Cribbage tournaments!  Happy Hour All Day!
URL:https://awaysis.mx/event/cribbage-tournaments-awaysis-rio-bar/2026-06-15/
LOCATION:Awaysis Rio Bar\, Rivera del Rio 166\, Puerto Vallarta\, Jalisco\, 48380\, Mexico
ATTACH;FMTTYPE=image/jpeg:https://awaysis.mx/wp-content/uploads/2026/04/Cribbage-2-4.jpeg
END:VEVENT
BEGIN:VEVENT
DTSTART;TZID=America/Mexico_City:20260615T140000
DTEND;TZID=America/Mexico_City:20260615T230000
DTSTAMP:20260421T151212
CREATED:20260417T220112Z
LAST-MODIFIED:20260417T220112Z
UID:10013457-1781532000-1781564400@awaysis.mx
SUMMARY:Monday ALL DAY HAPPY HOUR @ Awaysis Rio Bar
DESCRIPTION:Monday’s are All Day Happy Hour at the air conditioned Awaysis Rio Bar! \nEnjoy \nCorona/Pacifico 40 pesos \nHouse Margarita 65 pesos \nHouse Wine 60 pesos \nHouse Cocktails 60 pesos
URL:https://awaysis.mx/event/monday-all-day-happy-hour-awaysis-rio-bar/2026-06-15/
LOCATION:Awaysis Rio Bar\, Rivera del Rio 166\, Puerto Vallarta\, Jalisco\, 48380\, Mexico
ATTACH;FMTTYPE=image/jpeg:https://awaysis.mx/wp-content/uploads/2026/04/happy-hour-new-2.jpeg
END:VEVENT
BEGIN:VEVENT
DTSTART;TZID=America/Mexico_City:20260614T190000
DTEND;TZID=America/Mexico_City:20260614T220000
DTSTAMP:20260421T151212
CREATED:20260408T152416Z
LAST-MODIFIED:20260408T152722Z
UID:10013326-1781463600-1781474400@awaysis.mx
SUMMARY:Smart-Ass Trivia @ Awaysis Rio Bar!
DESCRIPTION:You like hanging out with friends and strangers\, showing off how smart you are\, and winning booze and food?\nSo do we!\nJoin us Sunday nights at 7 for Smart-ass Trivia at the cool\, air conditioned\, Awaysis Rio Bar!\nSmart-Ass-in-Chief\, AJ will be here to plumb the depths of your brains with 6 rounds of spoken questions and 1 wild card round. Topics may include general knowledge\, current events\, popular culture\, Vallarta\, history\, sports\, spirits\, art\, music\, literature\, nature… everything from Chimpan-A to Chimpan-Z. Let’s just say it’s broad-ranging.Bring a team \, or if you don’t have one\, we can find a team for you to join (or meet other solo players to form a new super-team)! \nFine print/details/how does this shit work? \nTeams may be up to 6 players. If you have more than 6\, congratulations! You now have 2 rival teams — prepare to have it out\, trivia-style.\nAfter 3 rounds of spoken trivia and the wild card round\, first half scores will be tallied.\nThe team in the lead at the half wins a round of house shots.\nThe overall winning team at the end of the game gets a $500 credit\, either taken off their tab for the night or for use in the future.
URL:https://awaysis.mx/event/smart-ass-trivia-awaysis-rio-bar-2/2026-06-14/
LOCATION:Awaysis Rio Bar\, Rivera del Rio 166\, Puerto Vallarta\, Jalisco\, 48380\, Mexico
ATTACH;FMTTYPE=image/jpeg:https://awaysis.mx/wp-content/uploads/2025/04/sat-for-screen-Large.jpeg
END:VEVENT
BEGIN:VEVENT
DTSTART;TZID=America/Mexico_City:20260610T190000
DTEND;TZID=America/Mexico_City:20260610T213000
DTSTAMP:20260421T151212
CREATED:20260413T193318Z
LAST-MODIFIED:20260413T193347Z
UID:10013408-1781118000-1781127000@awaysis.mx
SUMMARY:Bingo @ Awaysis Rio Bar
DESCRIPTION:DROP-IN-BINGO\n\n\n\nPlay as many or as few games AND as many or as few faces per game as you want!\nEnjoy happy hour drink specials and 100 peso smashburgers!\n\n\n\n\n\nAwaysis Rio Bar helps support Campamento Escuela tortuguero
URL:https://awaysis.mx/event/bingo-awaysis-rio-bar-3/2026-06-10/
LOCATION:Awaysis\, Aquiles Serdán\, 625\, Puerto Vallarta\, Jal\, 48380\, Mexico
ATTACH;FMTTYPE=image/jpeg:https://awaysis.mx/wp-content/uploads/2026/04/Bingo-2-4.jpeg
END:VEVENT
BEGIN:VEVENT
DTSTART;TZID=America/Mexico_City:20260609T190000
DTEND;TZID=America/Mexico_City:20260609T223000
DTSTAMP:20260421T151212
CREATED:20260408T150356Z
LAST-MODIFIED:20260408T153104Z
UID:10013349-1781031600-1781044200@awaysis.mx
SUMMARY:Karaoke Night @ Awaysis Rio Bar!
DESCRIPTION:Join us every Tuesday at the air conditioned Awaysis Rio Bar for Karaoke Night from 7-10:30pm with  host\, Carlos!
URL:https://awaysis.mx/event/karaoke-night-awaysis-rio-bar-2-2-2/2026-06-09/
LOCATION:Awaysis Rio Bar\, Rivera del Rio 166\, Puerto Vallarta\, Jalisco\, 48380\, Mexico
ATTACH;FMTTYPE=image/jpeg:https://awaysis.mx/wp-content/uploads/2025/04/karaoke-Carlos-promo.jpeg
END:VEVENT
BEGIN:VEVENT
DTSTART;TZID=America/Mexico_City:20260608T143000
DTEND;TZID=America/Mexico_City:20260608T170000
DTSTAMP:20260421T151212
CREATED:20260417T214707Z
LAST-MODIFIED:20260417T214707Z
UID:10013433-1780929000-1780938000@awaysis.mx
SUMMARY:Cribbage Tournaments @ Awaysis Rio Bar
DESCRIPTION:Monday Game Day at the air conditioned Awaysis Rio Bar! Come join us at 2:30 for some fun Cribbage tournaments!  Happy Hour All Day!
URL:https://awaysis.mx/event/cribbage-tournaments-awaysis-rio-bar/2026-06-08/
LOCATION:Awaysis Rio Bar\, Rivera del Rio 166\, Puerto Vallarta\, Jalisco\, 48380\, Mexico
ATTACH;FMTTYPE=image/jpeg:https://awaysis.mx/wp-content/uploads/2026/04/Cribbage-2-4.jpeg
END:VEVENT
BEGIN:VEVENT
DTSTART;TZID=America/Mexico_City:20260608T140000
DTEND;TZID=America/Mexico_City:20260608T230000
DTSTAMP:20260421T151212
CREATED:20260417T220112Z
LAST-MODIFIED:20260417T220112Z
UID:10013456-1780927200-1780959600@awaysis.mx
SUMMARY:Monday ALL DAY HAPPY HOUR @ Awaysis Rio Bar
DESCRIPTION:Monday’s are All Day Happy Hour at the air conditioned Awaysis Rio Bar! \nEnjoy \nCorona/Pacifico 40 pesos \nHouse Margarita 65 pesos \nHouse Wine 60 pesos \nHouse Cocktails 60 pesos
URL:https://awaysis.mx/event/monday-all-day-happy-hour-awaysis-rio-bar/2026-06-08/
LOCATION:Awaysis Rio Bar\, Rivera del Rio 166\, Puerto Vallarta\, Jalisco\, 48380\, Mexico
ATTACH;FMTTYPE=image/jpeg:https://awaysis.mx/wp-content/uploads/2026/04/happy-hour-new-2.jpeg
END:VEVENT
BEGIN:VEVENT
DTSTART;TZID=America/Mexico_City:20260607T190000
DTEND;TZID=America/Mexico_City:20260607T220000
DTSTAMP:20260421T151212
CREATED:20260408T152416Z
LAST-MODIFIED:20260408T152722Z
UID:10013325-1780858800-1780869600@awaysis.mx
SUMMARY:Smart-Ass Trivia @ Awaysis Rio Bar!
DESCRIPTION:You like hanging out with friends and strangers\, showing off how smart you are\, and winning booze and food?\nSo do we!\nJoin us Sunday nights at 7 for Smart-ass Trivia at the cool\, air conditioned\, Awaysis Rio Bar!\nSmart-Ass-in-Chief\, AJ will be here to plumb the depths of your brains with 6 rounds of spoken questions and 1 wild card round. Topics may include general knowledge\, current events\, popular culture\, Vallarta\, history\, sports\, spirits\, art\, music\, literature\, nature… everything from Chimpan-A to Chimpan-Z. Let’s just say it’s broad-ranging.Bring a team \, or if you don’t have one\, we can find a team for you to join (or meet other solo players to form a new super-team)! \nFine print/details/how does this shit work? \nTeams may be up to 6 players. If you have more than 6\, congratulations! You now have 2 rival teams — prepare to have it out\, trivia-style.\nAfter 3 rounds of spoken trivia and the wild card round\, first half scores will be tallied.\nThe team in the lead at the half wins a round of house shots.\nThe overall winning team at the end of the game gets a $500 credit\, either taken off their tab for the night or for use in the future.
URL:https://awaysis.mx/event/smart-ass-trivia-awaysis-rio-bar-2/2026-06-07/
LOCATION:Awaysis Rio Bar\, Rivera del Rio 166\, Puerto Vallarta\, Jalisco\, 48380\, Mexico
ATTACH;FMTTYPE=image/jpeg:https://awaysis.mx/wp-content/uploads/2025/04/sat-for-screen-Large.jpeg
END:VEVENT
BEGIN:VEVENT
DTSTART;TZID=America/Mexico_City:20260603T190000
DTEND;TZID=America/Mexico_City:20260603T213000
DTSTAMP:20260421T151212
CREATED:20260413T193318Z
LAST-MODIFIED:20260413T193347Z
UID:10013407-1780513200-1780522200@awaysis.mx
SUMMARY:Bingo @ Awaysis Rio Bar
DESCRIPTION:DROP-IN-BINGO\n\n\n\nPlay as many or as few games AND as many or as few faces per game as you want!\nEnjoy happy hour drink specials and 100 peso smashburgers!\n\n\n\n\n\nAwaysis Rio Bar helps support Campamento Escuela tortuguero
URL:https://awaysis.mx/event/bingo-awaysis-rio-bar-3/2026-06-03/
LOCATION:Awaysis\, Aquiles Serdán\, 625\, Puerto Vallarta\, Jal\, 48380\, Mexico
ATTACH;FMTTYPE=image/jpeg:https://awaysis.mx/wp-content/uploads/2026/04/Bingo-2-4.jpeg
END:VEVENT
BEGIN:VEVENT
DTSTART;TZID=America/Mexico_City:20260602T190000
DTEND;TZID=America/Mexico_City:20260602T223000
DTSTAMP:20260421T151212
CREATED:20260408T150356Z
LAST-MODIFIED:20260408T153104Z
UID:10013348-1780426800-1780439400@awaysis.mx
SUMMARY:Karaoke Night @ Awaysis Rio Bar!
DESCRIPTION:Join us every Tuesday at the air conditioned Awaysis Rio Bar for Karaoke Night from 7-10:30pm with  host\, Carlos!
URL:https://awaysis.mx/event/karaoke-night-awaysis-rio-bar-2-2-2/2026-06-02/
LOCATION:Awaysis Rio Bar\, Rivera del Rio 166\, Puerto Vallarta\, Jalisco\, 48380\, Mexico
ATTACH;FMTTYPE=image/jpeg:https://awaysis.mx/wp-content/uploads/2025/04/karaoke-Carlos-promo.jpeg
END:VEVENT
BEGIN:VEVENT
DTSTART;TZID=America/Mexico_City:20260601T143000
DTEND;TZID=America/Mexico_City:20260601T170000
DTSTAMP:20260421T151212
CREATED:20260417T214707Z
LAST-MODIFIED:20260417T214707Z
UID:10013432-1780324200-1780333200@awaysis.mx
SUMMARY:Cribbage Tournaments @ Awaysis Rio Bar
DESCRIPTION:Monday Game Day at the air conditioned Awaysis Rio Bar! Come join us at 2:30 for some fun Cribbage tournaments!  Happy Hour All Day!
URL:https://awaysis.mx/event/cribbage-tournaments-awaysis-rio-bar/2026-06-01/
LOCATION:Awaysis Rio Bar\, Rivera del Rio 166\, Puerto Vallarta\, Jalisco\, 48380\, Mexico
ATTACH;FMTTYPE=image/jpeg:https://awaysis.mx/wp-content/uploads/2026/04/Cribbage-2-4.jpeg
END:VEVENT
BEGIN:VEVENT
DTSTART;TZID=America/Mexico_City:20260601T140000
DTEND;TZID=America/Mexico_City:20260601T230000
DTSTAMP:20260421T151212
CREATED:20260417T220112Z
LAST-MODIFIED:20260417T220112Z
UID:10013455-1780322400-1780354800@awaysis.mx
SUMMARY:Monday ALL DAY HAPPY HOUR @ Awaysis Rio Bar
DESCRIPTION:Monday’s are All Day Happy Hour at the air conditioned Awaysis Rio Bar! \nEnjoy \nCorona/Pacifico 40 pesos \nHouse Margarita 65 pesos \nHouse Wine 60 pesos \nHouse Cocktails 60 pesos
URL:https://awaysis.mx/event/monday-all-day-happy-hour-awaysis-rio-bar/2026-06-01/
LOCATION:Awaysis Rio Bar\, Rivera del Rio 166\, Puerto Vallarta\, Jalisco\, 48380\, Mexico
ATTACH;FMTTYPE=image/jpeg:https://awaysis.mx/wp-content/uploads/2026/04/happy-hour-new-2.jpeg
END:VEVENT
BEGIN:VEVENT
DTSTART;TZID=America/Mexico_City:20260531T190000
DTEND;TZID=America/Mexico_City:20260531T220000
DTSTAMP:20260421T151212
CREATED:20260408T152416Z
LAST-MODIFIED:20260408T152722Z
UID:10013324-1780254000-1780264800@awaysis.mx
SUMMARY:Smart-Ass Trivia @ Awaysis Rio Bar!
DESCRIPTION:You like hanging out with friends and strangers\, showing off how smart you are\, and winning booze and food?\nSo do we!\nJoin us Sunday nights at 7 for Smart-ass Trivia at the cool\, air conditioned\, Awaysis Rio Bar!\nSmart-Ass-in-Chief\, AJ will be here to plumb the depths of your brains with 6 rounds of spoken questions and 1 wild card round. Topics may include general knowledge\, current events\, popular culture\, Vallarta\, history\, sports\, spirits\, art\, music\, literature\, nature… everything from Chimpan-A to Chimpan-Z. Let’s just say it’s broad-ranging.Bring a team \, or if you don’t have one\, we can find a team for you to join (or meet other solo players to form a new super-team)! \nFine print/details/how does this shit work? \nTeams may be up to 6 players. If you have more than 6\, congratulations! You now have 2 rival teams — prepare to have it out\, trivia-style.\nAfter 3 rounds of spoken trivia and the wild card round\, first half scores will be tallied.\nThe team in the lead at the half wins a round of house shots.\nThe overall winning team at the end of the game gets a $500 credit\, either taken off their tab for the night or for use in the future.
URL:https://awaysis.mx/event/smart-ass-trivia-awaysis-rio-bar-2/2026-05-31/
LOCATION:Awaysis Rio Bar\, Rivera del Rio 166\, Puerto Vallarta\, Jalisco\, 48380\, Mexico
ATTACH;FMTTYPE=image/jpeg:https://awaysis.mx/wp-content/uploads/2025/04/sat-for-screen-Large.jpeg
END:VEVENT
BEGIN:VEVENT
DTSTART;TZID=America/Mexico_City:20260530T190000
DTEND;TZID=America/Mexico_City:20260530T220000
DTSTAMP:20260421T151212
CREATED:20260413T185520Z
LAST-MODIFIED:20260413T185520Z
UID:10013377-1780167600-1780178400@awaysis.mx
SUMMARY:Live Music: Bobbi + The Other @ Awaysis Rio Bar
DESCRIPTION:Catch Bobbi and Rolando- with him on the guitar  in this amazing acoustical jam session in cool air conditioned comfort.  Saturdays  at 7:00pm
URL:https://awaysis.mx/event/live-music-bobbi-the-other-awaysis-rio-bar/2026-05-30/
LOCATION:Awaysis Rio Bar\, Rivera del Rio 166\, Puerto Vallarta\, Jalisco\, 48380\, Mexico
ATTACH;FMTTYPE=image/jpeg:https://awaysis.mx/wp-content/uploads/2026/04/Bobbi-Rio-Bar-2025-2.jpeg
END:VEVENT
BEGIN:VEVENT
DTSTART;TZID=America/Mexico_City:20260528T190000
DTEND;TZID=America/Mexico_City:20260528T220000
DTSTAMP:20260421T151212
CREATED:20260413T182915Z
LAST-MODIFIED:20260413T202944Z
UID:10013371-1779994800-1780005600@awaysis.mx
SUMMARY:Live Music: Brad Mallett @ Awaysis Rio Bar
DESCRIPTION:Join us on Thursday April 30\, May 14 and May 28 at 7:00 for live acoustic music from Brad Mallett. From country to classic rock to the occasional disco surprise\, you never know what’s coming next… It’s a new show every week!
URL:https://awaysis.mx/event/live-music-brad-mallett-awaysis-rio-bar/2026-05-28/
LOCATION:Awaysis Rio Bar\, Rivera del Rio 166\, Puerto Vallarta\, Jalisco\, 48380\, Mexico
ATTACH;FMTTYPE=image/jpeg:https://awaysis.mx/wp-content/uploads/2026/04/Brad-August-3.jpeg
END:VEVENT
BEGIN:VEVENT
DTSTART;TZID=America/Mexico_City:20260527T190000
DTEND;TZID=America/Mexico_City:20260527T213000
DTSTAMP:20260421T151212
CREATED:20260413T193318Z
LAST-MODIFIED:20260413T193347Z
UID:10013406-1779908400-1779917400@awaysis.mx
SUMMARY:Bingo @ Awaysis Rio Bar
DESCRIPTION:DROP-IN-BINGO\n\n\n\nPlay as many or as few games AND as many or as few faces per game as you want!\nEnjoy happy hour drink specials and 100 peso smashburgers!\n\n\n\n\n\nAwaysis Rio Bar helps support Campamento Escuela tortuguero
URL:https://awaysis.mx/event/bingo-awaysis-rio-bar-3/2026-05-27/
LOCATION:Awaysis\, Aquiles Serdán\, 625\, Puerto Vallarta\, Jal\, 48380\, Mexico
ATTACH;FMTTYPE=image/jpeg:https://awaysis.mx/wp-content/uploads/2026/04/Bingo-2-4.jpeg
END:VEVENT
BEGIN:VEVENT
DTSTART;TZID=America/Mexico_City:20260526T190000
DTEND;TZID=America/Mexico_City:20260526T223000
DTSTAMP:20260421T151212
CREATED:20260408T150356Z
LAST-MODIFIED:20260408T153104Z
UID:10013347-1779822000-1779834600@awaysis.mx
SUMMARY:Karaoke Night @ Awaysis Rio Bar!
DESCRIPTION:Join us every Tuesday at the air conditioned Awaysis Rio Bar for Karaoke Night from 7-10:30pm with  host\, Carlos!
URL:https://awaysis.mx/event/karaoke-night-awaysis-rio-bar-2-2-2/2026-05-26/
LOCATION:Awaysis Rio Bar\, Rivera del Rio 166\, Puerto Vallarta\, Jalisco\, 48380\, Mexico
ATTACH;FMTTYPE=image/jpeg:https://awaysis.mx/wp-content/uploads/2025/04/karaoke-Carlos-promo.jpeg
END:VEVENT
BEGIN:VEVENT
DTSTART;TZID=America/Mexico_City:20260525T143000
DTEND;TZID=America/Mexico_City:20260525T170000
DTSTAMP:20260421T151212
CREATED:20260417T214707Z
LAST-MODIFIED:20260417T214707Z
UID:10013431-1779719400-1779728400@awaysis.mx
SUMMARY:Cribbage Tournaments @ Awaysis Rio Bar
DESCRIPTION:Monday Game Day at the air conditioned Awaysis Rio Bar! Come join us at 2:30 for some fun Cribbage tournaments!  Happy Hour All Day!
URL:https://awaysis.mx/event/cribbage-tournaments-awaysis-rio-bar/2026-05-25/
LOCATION:Awaysis Rio Bar\, Rivera del Rio 166\, Puerto Vallarta\, Jalisco\, 48380\, Mexico
ATTACH;FMTTYPE=image/jpeg:https://awaysis.mx/wp-content/uploads/2026/04/Cribbage-2-4.jpeg
END:VEVENT
BEGIN:VEVENT
DTSTART;TZID=America/Mexico_City:20260525T140000
DTEND;TZID=America/Mexico_City:20260525T230000
DTSTAMP:20260421T151212
CREATED:20260417T220112Z
LAST-MODIFIED:20260417T220112Z
UID:10013454-1779717600-1779750000@awaysis.mx
SUMMARY:Monday ALL DAY HAPPY HOUR @ Awaysis Rio Bar
DESCRIPTION:Monday’s are All Day Happy Hour at the air conditioned Awaysis Rio Bar! \nEnjoy \nCorona/Pacifico 40 pesos \nHouse Margarita 65 pesos \nHouse Wine 60 pesos \nHouse Cocktails 60 pesos
URL:https://awaysis.mx/event/monday-all-day-happy-hour-awaysis-rio-bar/2026-05-25/
LOCATION:Awaysis Rio Bar\, Rivera del Rio 166\, Puerto Vallarta\, Jalisco\, 48380\, Mexico
ATTACH;FMTTYPE=image/jpeg:https://awaysis.mx/wp-content/uploads/2026/04/happy-hour-new-2.jpeg
END:VEVENT
BEGIN:VEVENT
DTSTART;TZID=America/Mexico_City:20260524T190000
DTEND;TZID=America/Mexico_City:20260524T220000
DTSTAMP:20260421T151212
CREATED:20260408T152416Z
LAST-MODIFIED:20260408T152722Z
UID:10013323-1779649200-1779660000@awaysis.mx
SUMMARY:Smart-Ass Trivia @ Awaysis Rio Bar!
DESCRIPTION:You like hanging out with friends and strangers\, showing off how smart you are\, and winning booze and food?\nSo do we!\nJoin us Sunday nights at 7 for Smart-ass Trivia at the cool\, air conditioned\, Awaysis Rio Bar!\nSmart-Ass-in-Chief\, AJ will be here to plumb the depths of your brains with 6 rounds of spoken questions and 1 wild card round. Topics may include general knowledge\, current events\, popular culture\, Vallarta\, history\, sports\, spirits\, art\, music\, literature\, nature… everything from Chimpan-A to Chimpan-Z. Let’s just say it’s broad-ranging.Bring a team \, or if you don’t have one\, we can find a team for you to join (or meet other solo players to form a new super-team)! \nFine print/details/how does this shit work? \nTeams may be up to 6 players. If you have more than 6\, congratulations! You now have 2 rival teams — prepare to have it out\, trivia-style.\nAfter 3 rounds of spoken trivia and the wild card round\, first half scores will be tallied.\nThe team in the lead at the half wins a round of house shots.\nThe overall winning team at the end of the game gets a $500 credit\, either taken off their tab for the night or for use in the future.
URL:https://awaysis.mx/event/smart-ass-trivia-awaysis-rio-bar-2/2026-05-24/
LOCATION:Awaysis Rio Bar\, Rivera del Rio 166\, Puerto Vallarta\, Jalisco\, 48380\, Mexico
ATTACH;FMTTYPE=image/jpeg:https://awaysis.mx/wp-content/uploads/2025/04/sat-for-screen-Large.jpeg
END:VEVENT
BEGIN:VEVENT
DTSTART;TZID=America/Mexico_City:20260524T150000
DTEND;TZID=America/Mexico_City:20260524T220000
DTSTAMP:20260421T151212
CREATED:20260316T233449Z
LAST-MODIFIED:20260330T164034Z
UID:10012840-1779634800-1779660000@awaysis.mx
SUMMARY:Women's Pride @ Awaysis!
DESCRIPTION:PRIDE WEEKEND AT AWAYSIS! \nWe’re throwing open the doors of the main Awaysis Bar for two epic days of Pride celebrations—and you’re invited!\n\n\n Sunday\, May 24 – Women’s Pride Party\n Featuring Performances by:\nLas Mambas\nSylvie & The Zippers\nEva\nKim Archer\nStolie\nBig Molly\n& More!\n A celebration of women\, music\, and community!\n\nNO COVER CHARGE!
URL:https://awaysis.mx/event/womens-pride-awaysis-2/
LOCATION:Awaysis\, Aquiles Serdán\, 625\, Puerto Vallarta\, Jal\, 48380\, Mexico
ATTACH;FMTTYPE=image/jpeg:https://awaysis.mx/wp-content/uploads/2026/03/Awaysis-Womens-Pride-Party-2026-2.jpg
END:VEVENT
BEGIN:VEVENT
DTSTART;TZID=America/Mexico_City:20260523T160000
DTEND;TZID=America/Mexico_City:20260523T220000
DTSTAMP:20260421T151212
CREATED:20260316T234459Z
LAST-MODIFIED:20260325T222406Z
UID:10012841-1779552000-1779573600@awaysis.mx
SUMMARY:Punk Rock Pride @ Awaysis
DESCRIPTION:This is not your typical Pride party. \nThis is Punk Rock Pride 🖤 \n📅 Saturday\, May 23 at Awaysis \n🎸 Muñecas + The Dirties (live and loud)💄 Wendy Warhol & Jordan Carnegie (drag\, but make it punk)🎧 Daddy Saddle (keeping it messy all night) \nCome for Pride. Stay for the chaos. \n 
URL:https://awaysis.mx/event/punk-rock-pride-awaysis/
LOCATION:Awaysis\, Aquiles Serdán\, 625\, Puerto Vallarta\, Jal\, 48380\, Mexico
ATTACH;FMTTYPE=image/jpeg:https://awaysis.mx/wp-content/uploads/2026/03/WhatsApp-Image-2026-03-24-at-17.39.34.jpeg
END:VEVENT
BEGIN:VEVENT
DTSTART;TZID=America/Mexico_City:20260521T190000
DTEND;TZID=America/Mexico_City:20260521T220000
DTSTAMP:20260421T151212
CREATED:20260413T203448Z
LAST-MODIFIED:20260421T013712Z
UID:10013426-1779390000-1779400800@awaysis.mx
SUMMARY:Live Music: Duncan Shadrack @ Awaysis Rio Bar
DESCRIPTION:Awaysis Rio Bar is thrilled to host the amazing Duncan Shadrack\, an American singer and songwriter from Kentucky.  Duncan plays blues\, classic rock\, and country music.  You don’t want to miss this show!  Thursday May 7 and May 21 at 7:00pm
URL:https://awaysis.mx/event/live-music-duncan-shadrack-awaysis-rio-bar/2026-05-21/
LOCATION:Awaysis\, Aquiles Serdán\, 625\, Puerto Vallarta\, Jal\, 48380\, Mexico
ATTACH;FMTTYPE=image/jpeg:https://awaysis.mx/wp-content/uploads/2026/04/Duncan-Rio-1.jpeg
END:VEVENT
BEGIN:VEVENT
DTSTART;TZID=America/Mexico_City:20260520T190000
DTEND;TZID=America/Mexico_City:20260520T213000
DTSTAMP:20260421T151212
CREATED:20260413T193318Z
LAST-MODIFIED:20260413T193347Z
UID:10013405-1779303600-1779312600@awaysis.mx
SUMMARY:Bingo @ Awaysis Rio Bar
DESCRIPTION:DROP-IN-BINGO\n\n\n\nPlay as many or as few games AND as many or as few faces per game as you want!\nEnjoy happy hour drink specials and 100 peso smashburgers!\n\n\n\n\n\nAwaysis Rio Bar helps support Campamento Escuela tortuguero
URL:https://awaysis.mx/event/bingo-awaysis-rio-bar-3/2026-05-20/
LOCATION:Awaysis\, Aquiles Serdán\, 625\, Puerto Vallarta\, Jal\, 48380\, Mexico
ATTACH;FMTTYPE=image/jpeg:https://awaysis.mx/wp-content/uploads/2026/04/Bingo-2-4.jpeg
END:VEVENT
BEGIN:VEVENT
DTSTART;TZID=America/Mexico_City:20260519T190000
DTEND;TZID=America/Mexico_City:20260519T223000
DTSTAMP:20260421T151212
CREATED:20260408T150356Z
LAST-MODIFIED:20260408T153104Z
UID:10013346-1779217200-1779229800@awaysis.mx
SUMMARY:Karaoke Night @ Awaysis Rio Bar!
DESCRIPTION:Join us every Tuesday at the air conditioned Awaysis Rio Bar for Karaoke Night from 7-10:30pm with  host\, Carlos!
URL:https://awaysis.mx/event/karaoke-night-awaysis-rio-bar-2-2-2/2026-05-19/
LOCATION:Awaysis Rio Bar\, Rivera del Rio 166\, Puerto Vallarta\, Jalisco\, 48380\, Mexico
ATTACH;FMTTYPE=image/jpeg:https://awaysis.mx/wp-content/uploads/2025/04/karaoke-Carlos-promo.jpeg
END:VEVENT
BEGIN:VEVENT
DTSTART;TZID=America/Mexico_City:20260518T143000
DTEND;TZID=America/Mexico_City:20260518T170000
DTSTAMP:20260421T151212
CREATED:20260417T214707Z
LAST-MODIFIED:20260417T214707Z
UID:10013430-1779114600-1779123600@awaysis.mx
SUMMARY:Cribbage Tournaments @ Awaysis Rio Bar
DESCRIPTION:Monday Game Day at the air conditioned Awaysis Rio Bar! Come join us at 2:30 for some fun Cribbage tournaments!  Happy Hour All Day!
URL:https://awaysis.mx/event/cribbage-tournaments-awaysis-rio-bar/2026-05-18/
LOCATION:Awaysis Rio Bar\, Rivera del Rio 166\, Puerto Vallarta\, Jalisco\, 48380\, Mexico
ATTACH;FMTTYPE=image/jpeg:https://awaysis.mx/wp-content/uploads/2026/04/Cribbage-2-4.jpeg
END:VEVENT
BEGIN:VEVENT
DTSTART;TZID=America/Mexico_City:20260518T140000
DTEND;TZID=America/Mexico_City:20260518T230000
DTSTAMP:20260421T151212
CREATED:20260417T220112Z
LAST-MODIFIED:20260417T220112Z
UID:10013453-1779112800-1779145200@awaysis.mx
SUMMARY:Monday ALL DAY HAPPY HOUR @ Awaysis Rio Bar
DESCRIPTION:Monday’s are All Day Happy Hour at the air conditioned Awaysis Rio Bar! \nEnjoy \nCorona/Pacifico 40 pesos \nHouse Margarita 65 pesos \nHouse Wine 60 pesos \nHouse Cocktails 60 pesos
URL:https://awaysis.mx/event/monday-all-day-happy-hour-awaysis-rio-bar/2026-05-18/
LOCATION:Awaysis Rio Bar\, Rivera del Rio 166\, Puerto Vallarta\, Jalisco\, 48380\, Mexico
ATTACH;FMTTYPE=image/jpeg:https://awaysis.mx/wp-content/uploads/2026/04/happy-hour-new-2.jpeg
END:VEVENT
BEGIN:VEVENT
DTSTART;TZID=America/Mexico_City:20260517T190000
DTEND;TZID=America/Mexico_City:20260517T220000
DTSTAMP:20260421T151212
CREATED:20260408T152416Z
LAST-MODIFIED:20260408T152722Z
UID:10013322-1779044400-1779055200@awaysis.mx
SUMMARY:Smart-Ass Trivia @ Awaysis Rio Bar!
DESCRIPTION:You like hanging out with friends and strangers\, showing off how smart you are\, and winning booze and food?\nSo do we!\nJoin us Sunday nights at 7 for Smart-ass Trivia at the cool\, air conditioned\, Awaysis Rio Bar!\nSmart-Ass-in-Chief\, AJ will be here to plumb the depths of your brains with 6 rounds of spoken questions and 1 wild card round. Topics may include general knowledge\, current events\, popular culture\, Vallarta\, history\, sports\, spirits\, art\, music\, literature\, nature… everything from Chimpan-A to Chimpan-Z. Let’s just say it’s broad-ranging.Bring a team \, or if you don’t have one\, we can find a team for you to join (or meet other solo players to form a new super-team)! \nFine print/details/how does this shit work? \nTeams may be up to 6 players. If you have more than 6\, congratulations! You now have 2 rival teams — prepare to have it out\, trivia-style.\nAfter 3 rounds of spoken trivia and the wild card round\, first half scores will be tallied.\nThe team in the lead at the half wins a round of house shots.\nThe overall winning team at the end of the game gets a $500 credit\, either taken off their tab for the night or for use in the future.
URL:https://awaysis.mx/event/smart-ass-trivia-awaysis-rio-bar-2/2026-05-17/
LOCATION:Awaysis Rio Bar\, Rivera del Rio 166\, Puerto Vallarta\, Jalisco\, 48380\, Mexico
ATTACH;FMTTYPE=image/jpeg:https://awaysis.mx/wp-content/uploads/2025/04/sat-for-screen-Large.jpeg
END:VEVENT
BEGIN:VEVENT
DTSTART;TZID=America/Mexico_City:20260516T190000
DTEND;TZID=America/Mexico_City:20260516T220000
DTSTAMP:20260421T151212
CREATED:20260413T185520Z
LAST-MODIFIED:20260413T185520Z
UID:10013376-1778958000-1778968800@awaysis.mx
SUMMARY:Live Music: Bobbi + The Other @ Awaysis Rio Bar
DESCRIPTION:Catch Bobbi and Rolando- with him on the guitar  in this amazing acoustical jam session in cool air conditioned comfort.  Saturdays  at 7:00pm
URL:https://awaysis.mx/event/live-music-bobbi-the-other-awaysis-rio-bar/2026-05-16/
LOCATION:Awaysis Rio Bar\, Rivera del Rio 166\, Puerto Vallarta\, Jalisco\, 48380\, Mexico
ATTACH;FMTTYPE=image/jpeg:https://awaysis.mx/wp-content/uploads/2026/04/Bobbi-Rio-Bar-2025-2.jpeg
END:VEVENT
END:VCALENDAR