BEGIN:VCALENDAR
VERSION:2.0
PRODID:-//Awaysis Bar &amp; Restaurant - ECPv6.15.20//NONSGML v1.0//EN
CALSCALE:GREGORIAN
METHOD:PUBLISH
X-WR-CALNAME:Awaysis Bar &amp; Restaurant
X-ORIGINAL-URL:https://awaysis.mx
X-WR-CALDESC:Events for Awaysis Bar &amp; Restaurant
REFRESH-INTERVAL;VALUE=DURATION:PT1H
X-Robots-Tag:noindex
X-PUBLISHED-TTL:PT1H
BEGIN:VTIMEZONE
TZID:America/Mexico_City
BEGIN:STANDARD
TZOFFSETFROM:-0600
TZOFFSETTO:-0600
TZNAME:CST
DTSTART:20240101T000000
END:STANDARD
END:VTIMEZONE
BEGIN:VEVENT
DTSTART;TZID=America/Mexico_City:20251130T150000
DTEND;TZID=America/Mexico_City:20251130T180000
DTSTAMP:20260422T052812
CREATED:20251102T235425Z
LAST-MODIFIED:20260408T151950Z
UID:10009110-1764514800-1764525600@awaysis.mx
SUMMARY:Live Music: The Availables
DESCRIPTION:Sundays at 3:00 belong to The Availables. This is a live-music sweet spot: warm harmonies\, familiar songs reimagined\, and just enough groove to get the tables swaying. Whether you’re dropping in solo or rolling deep with friends\, The Availables deliver an afternoon set that feels like exactly where you’re meant to be. See you at Awaysis—every Sunday. #TheBarForEveryone
URL:https://awaysis.mx/event/live-music-the-availables-2/2025-11-30/
LOCATION:Awaysis\, Aquiles Serdán\, 625\, Puerto Vallarta\, Jal\, 48380\, Mexico
ATTACH;FMTTYPE=image/jpeg:https://awaysis.mx/wp-content/uploads/2025/11/Availables-2025-2026-1-3.jpeg
END:VEVENT
BEGIN:VEVENT
DTSTART;TZID=America/Mexico_City:20251129T190000
DTEND;TZID=America/Mexico_City:20251129T220000
DTSTAMP:20260422T052812
CREATED:20250917T231039Z
LAST-MODIFIED:20260408T151921Z
UID:10008689-1764442800-1764453600@awaysis.mx
SUMMARY:Live Music: Bobbi + The Others
DESCRIPTION:Dust off your dancing boots and be ready to two-step all evening with Bobbi and the Others country-rock band Saturdays 7-10pm
URL:https://awaysis.mx/event/live-music-bobbi-the-others-2/2025-11-29/
LOCATION:Awaysis\, Aquiles Serdán\, 625\, Puerto Vallarta\, Jal\, 48380\, Mexico
ATTACH;FMTTYPE=image/jpeg:https://awaysis.mx/wp-content/uploads/2025/09/att.jotpCMwUApjyTWoV5sAAoiVeCI99JGKalL_TgcVUhi8.png.jpeg
END:VEVENT
BEGIN:VEVENT
DTSTART;TZID=America/Mexico_City:20251129T150000
DTEND;TZID=America/Mexico_City:20251129T180000
DTSTAMP:20260422T052812
CREATED:20250917T230957Z
LAST-MODIFIED:20260408T152518Z
UID:10008745-1764428400-1764439200@awaysis.mx
SUMMARY:Live Music: Las Mambas
DESCRIPTION:Las Mambas deliver a clean\, classic rock punch with Yoalli Guerrero at the mic—bold vocals\, tight band\, and an effortless build from toe-taps to full-on dancing. Catch them on every Saturday at 3:00
URL:https://awaysis.mx/event/live-music-las-mambas-2/2025-11-29/
LOCATION:Awaysis\, Aquiles Serdán\, 625\, Puerto Vallarta\, Jal\, 48380\, Mexico
ATTACH;FMTTYPE=image/jpeg:https://awaysis.mx/wp-content/uploads/2025/09/Las-Mambas-2025-2026.jpeg
END:VEVENT
BEGIN:VEVENT
DTSTART;TZID=America/Mexico_City:20251128T190000
DTEND;TZID=America/Mexico_City:20251128T220000
DTSTAMP:20260422T052812
CREATED:20250917T230859Z
LAST-MODIFIED:20260408T151205Z
UID:10008952-1764356400-1764367200@awaysis.mx
SUMMARY:Live Music: The Lovers
DESCRIPTION:Every Friday night at Awaysis catch the unbelievable band\, The Lovers live starting at 7:00!  You don’t want to miss this show!
URL:https://awaysis.mx/event/live-music-the-lovers-2/2025-11-28/
LOCATION:Awaysis\, Aquiles Serdán\, 625\, Puerto Vallarta\, Jal\, 48380\, Mexico
ATTACH;FMTTYPE=image/png:https://awaysis.mx/wp-content/uploads/2024/10/The-Lovers-1-scaled.png
END:VEVENT
BEGIN:VEVENT
DTSTART;TZID=America/Mexico_City:20251128T190000
DTEND;TZID=America/Mexico_City:20251128T220000
DTSTAMP:20260422T052812
CREATED:20250908T203801Z
LAST-MODIFIED:20260408T150128Z
UID:10013074-1764356400-1764367200@awaysis.mx
SUMMARY:Karaoke Night at Awaysis
DESCRIPTION:🎤 Tuesday nights at Awaysis mean karaoke with the one and only Carlos hosting. \nThe fun begins at 7:00 PM and the stage is open to everyone. Whether you are a shower singer\, a secret diva\, or someone who just loves to belt out a tune with friends\, this is your night. Carlos will keep the energy high\, the laughs rolling\, and make sure every brave soul who grabs the mic feels like a star. \nYou can expect a mix of incredible voices\, a few gloriously off-key performances\, and plenty of sing-alongs that will have the whole bar joining in. Cold drinks will be flowing\, and the good times are guaranteed. \nBring your friends\, your favorite song\, and a little courage. The rest will take care of itself.#KaraokeNight  #TheBarForEveryone
URL:https://awaysis.mx/event/karaoke-night-at-awaysis-2/2025-11-28/
LOCATION:Awaysis\, Aquiles Serdán\, 625\, Puerto Vallarta\, Jal\, 48380\, Mexico
ATTACH;FMTTYPE=image/jpeg:https://awaysis.mx/wp-content/uploads/2025/09/karaoke-Carlos-promo-2.jpeg
END:VEVENT
BEGIN:VEVENT
DTSTART;TZID=America/Mexico_City:20251128T150000
DTEND;TZID=America/Mexico_City:20251128T180000
DTSTAMP:20260422T052812
CREATED:20250917T230648Z
LAST-MODIFIED:20260408T151140Z
UID:10008717-1764342000-1764352800@awaysis.mx
SUMMARY:Live Music: Monaco
DESCRIPTION:See Daniel Celis and the amazing Monaco live every Friday from 3-6pm at Awaysis! \nSee more about Monaco: https://www.facebook.com/profile.php?id=61551778941516 \n 
URL:https://awaysis.mx/event/live-music-monaco-2/2025-11-28/
LOCATION:Awaysis\, Aquiles Serdán\, 625\, Puerto Vallarta\, Jal\, 48380\, Mexico
ATTACH;FMTTYPE=image/jpeg:https://awaysis.mx/wp-content/uploads/2025/09/Monaco-2025-2026-scaled.jpeg
END:VEVENT
BEGIN:VEVENT
DTSTART;TZID=America/Mexico_City:20251127T190000
DTEND;TZID=America/Mexico_City:20251127T220000
DTSTAMP:20260422T052812
CREATED:20251217T011219Z
LAST-MODIFIED:20260223T161055Z
UID:10009720-1764270000-1764280800@awaysis.mx
SUMMARY:Music Bingo!
DESCRIPTION:Every Thursday at 7:00\, we’re turning the volume up with Music Bingo at Awaysis. It’s bingo\, but instead of numbers\, you’ve got song titles and artists on your card. We’ll play short clips of familiar hits across different eras and genres\, and if you recognize it\, you mark it. First to get two lines any direction wins prizes and bragging rights. No music knowledge required\, just show up\, grab a drink\, and get ready for lots of “WAIT\, I LOVE THIS SONG!” moments. Come early\, claim your spot\, and let’s make Thursday night loud.
URL:https://awaysis.mx/event/music-bingo/2025-11-27/
LOCATION:Awaysis\, Aquiles Serdán\, 625\, Puerto Vallarta\, Jal\, 48380\, Mexico
ATTACH;FMTTYPE=image/jpeg:https://awaysis.mx/wp-content/uploads/2025/12/Music-Bingo.jpeg
END:VEVENT
BEGIN:VEVENT
DTSTART;TZID=America/Mexico_City:20251127T190000
DTEND;TZID=America/Mexico_City:20251127T210000
DTSTAMP:20260422T052812
CREATED:20250917T230157Z
LAST-MODIFIED:20260316T191344Z
UID:10012735-1764270000-1764277200@awaysis.mx
SUMMARY:Live Music: The Dos Pesos Experience
DESCRIPTION:Join the Dos Pesos Experience featuring Brad Mallett and special guests  performing your favorite country and classic rock hits!  Every Wednesday at 7:00!
URL:https://awaysis.mx/event/acoustic-wednesdays-with-dos-pesos-special-time-this-week-2/2025-11-27/
LOCATION:Awaysis\, Aquiles Serdán\, 625\, Puerto Vallarta\, Jal\, 48380\, Mexico
ATTACH;FMTTYPE=image/png:https://awaysis.mx/wp-content/uploads/2025/09/6d2dfcf398aa7e2d936671b285ecf55a.png
END:VEVENT
BEGIN:VEVENT
DTSTART;TZID=America/Mexico_City:20251127T150000
DTEND;TZID=America/Mexico_City:20251127T200000
DTSTAMP:20260422T052812
CREATED:20251105T011325Z
LAST-MODIFIED:20251111T231900Z
UID:10009134-1764255600-1764273600@awaysis.mx
SUMMARY:Thanksgiving Dinner at Awaysis
DESCRIPTION:Thanksgiving Plans? We’ve got you covered! \n\n\n\nWe are now accepting reservations for our special Thanksgiving Dinner — Thursday\, November 27\, 2025 at Awaysis!\n\n\n\nLil’ Southern Kitchen will be serving an authentic southern feast — turkey\, mashed potatoes\, mac & cheese\, stuffing\, sweet butter corn\, rolls\, homemade green bean casserole… and yes — pumpkin pie! \n\n\n$425 pesos per person\n3:00pm – 8:00pm\nLive Entertainment featuring Jordan & Dash 5-8pm\n\n\nSpace is limited — this one WILL sell out.\n\n\n Reservations required – drop by the bar or call us at 322-450-2811\n\n\nCome get your full plate and celebrate Thanksgiving with flavor\, friends & southern comfort at #TheBarForEveryone
URL:https://awaysis.mx/event/thanksgiving-dinner-at-awaysis/
LOCATION:Awaysis\, Aquiles Serdán\, 625\, Puerto Vallarta\, Jal\, 48380\, Mexico
ATTACH;FMTTYPE=image/jpeg:https://awaysis.mx/wp-content/uploads/2025/11/Thanksgiving-2025-1.jpeg
END:VEVENT
BEGIN:VEVENT
DTSTART;TZID=America/Mexico_City:20251126T190000
DTEND;TZID=America/Mexico_City:20251126T210000
DTSTAMP:20260422T052812
CREATED:20250917T230157Z
LAST-MODIFIED:20260316T191344Z
UID:10008895-1764183600-1764190800@awaysis.mx
SUMMARY:Live Music: The Dos Pesos Experience
DESCRIPTION:Join the Dos Pesos Experience featuring Brad Mallett and special guests  performing your favorite country and classic rock hits!  Every Wednesday at 7:00!
URL:https://awaysis.mx/event/acoustic-wednesdays-with-dos-pesos-special-time-this-week-2/2025-11-26/
LOCATION:Awaysis\, Aquiles Serdán\, 625\, Puerto Vallarta\, Jal\, 48380\, Mexico
ATTACH;FMTTYPE=image/png:https://awaysis.mx/wp-content/uploads/2025/09/6d2dfcf398aa7e2d936671b285ecf55a.png
END:VEVENT
BEGIN:VEVENT
DTSTART;TZID=America/Mexico_City:20251126T150000
DTEND;TZID=America/Mexico_City:20251126T180000
DTSTAMP:20260422T052812
CREATED:20250919T194431Z
LAST-MODIFIED:20260226T012012Z
UID:10009011-1764169200-1764180000@awaysis.mx
SUMMARY:Live Music: Los Wendigos
DESCRIPTION:It’s country music Wednesdays at Awaysis featuring the bluegrass country sensation\, Los Wendigos!  One of the most unique bands in Puerto Vallarta complete with fiddle\, banjo\, mandolin and washboard players.  Truly an experience you don’t want to miss!
URL:https://awaysis.mx/event/live-music-los-wendigos/2025-11-26/
LOCATION:Awaysis\, Aquiles Serdán\, 625\, Puerto Vallarta\, Jal\, 48380\, Mexico
ATTACH;FMTTYPE=image/jpeg:https://awaysis.mx/wp-content/uploads/2025/09/WhatsApp-Image-2024-04-03-at-9.09.50-PM-e1758249519523.jpeg
END:VEVENT
BEGIN:VEVENT
DTSTART;TZID=America/Mexico_City:20251125T190000
DTEND;TZID=America/Mexico_City:20251125T220000
DTSTAMP:20260422T052812
CREATED:20250908T203801Z
LAST-MODIFIED:20260408T150128Z
UID:10013073-1764097200-1764108000@awaysis.mx
SUMMARY:Karaoke Night at Awaysis
DESCRIPTION:🎤 Tuesday nights at Awaysis mean karaoke with the one and only Carlos hosting. \nThe fun begins at 7:00 PM and the stage is open to everyone. Whether you are a shower singer\, a secret diva\, or someone who just loves to belt out a tune with friends\, this is your night. Carlos will keep the energy high\, the laughs rolling\, and make sure every brave soul who grabs the mic feels like a star. \nYou can expect a mix of incredible voices\, a few gloriously off-key performances\, and plenty of sing-alongs that will have the whole bar joining in. Cold drinks will be flowing\, and the good times are guaranteed. \nBring your friends\, your favorite song\, and a little courage. The rest will take care of itself.#KaraokeNight  #TheBarForEveryone
URL:https://awaysis.mx/event/karaoke-night-at-awaysis-2/2025-11-25/
LOCATION:Awaysis\, Aquiles Serdán\, 625\, Puerto Vallarta\, Jal\, 48380\, Mexico
ATTACH;FMTTYPE=image/jpeg:https://awaysis.mx/wp-content/uploads/2025/09/karaoke-Carlos-promo-2.jpeg
END:VEVENT
BEGIN:VEVENT
DTSTART;TZID=America/Mexico_City:20251125T150000
DTEND;TZID=America/Mexico_City:20251125T173000
DTSTAMP:20260422T052812
CREATED:20250908T204927Z
LAST-MODIFIED:20260408T145855Z
UID:10008802-1764082800-1764091800@awaysis.mx
SUMMARY:Awaysis Bingo Tuesdays
DESCRIPTION:DROP-IN-BINGO\n\n\n\nPlay as many or as few games AND as many or as few faces per game as you want!\n\n\n\n\n\nFood Available from The Chicken Coop at Awaysis. Yummy!\n\n\nAwaysis helps support Campamento Escuela tortuguero (turtle rescue) for more information visit our facebook page.
URL:https://awaysis.mx/event/awaysis-bingo-tuesdays-2/2025-11-25/
LOCATION:Awaysis\, Aquiles Serdán\, 625\, Puerto Vallarta\, Jal\, 48380\, Mexico
ATTACH;FMTTYPE=image/jpeg:https://awaysis.mx/wp-content/uploads/2024/11/Bingo-2-3.jpeg
END:VEVENT
BEGIN:VEVENT
DTSTART;TZID=America/Mexico_City:20251125T120000
DTEND;TZID=America/Mexico_City:20251125T150000
DTSTAMP:20260422T052812
CREATED:20250908T213627Z
LAST-MODIFIED:20260408T145815Z
UID:10008832-1764072000-1764082800@awaysis.mx
SUMMARY:Awaysis Game Day! Cribbage Tournament Tuesdays!
DESCRIPTION:Tuesday Game day at Awaysis! Come join us at 12:00 for some fun Cribbage tournaments with your host Kelly Shannon Gauthier! \nIf you have an extra board\, bring it along !
URL:https://awaysis.mx/event/awaysis-game-day-cribbage-tournament-tuesdays/2025-11-25/
LOCATION:Awaysis\, Aquiles Serdán\, 625\, Puerto Vallarta\, Jal\, 48380\, Mexico
ATTACH;FMTTYPE=image/jpeg:https://awaysis.mx/wp-content/uploads/2025/09/Cribbage-2-3.jpeg
END:VEVENT
BEGIN:VEVENT
DTSTART;TZID=America/Mexico_City:20251123T150000
DTEND;TZID=America/Mexico_City:20251123T180000
DTSTAMP:20260422T052812
CREATED:20251102T235425Z
LAST-MODIFIED:20260408T151950Z
UID:10009109-1763910000-1763920800@awaysis.mx
SUMMARY:Live Music: The Availables
DESCRIPTION:Sundays at 3:00 belong to The Availables. This is a live-music sweet spot: warm harmonies\, familiar songs reimagined\, and just enough groove to get the tables swaying. Whether you’re dropping in solo or rolling deep with friends\, The Availables deliver an afternoon set that feels like exactly where you’re meant to be. See you at Awaysis—every Sunday. #TheBarForEveryone
URL:https://awaysis.mx/event/live-music-the-availables-2/2025-11-23/
LOCATION:Awaysis\, Aquiles Serdán\, 625\, Puerto Vallarta\, Jal\, 48380\, Mexico
ATTACH;FMTTYPE=image/jpeg:https://awaysis.mx/wp-content/uploads/2025/11/Availables-2025-2026-1-3.jpeg
END:VEVENT
BEGIN:VEVENT
DTSTART;TZID=America/Mexico_City:20251122T190000
DTEND;TZID=America/Mexico_City:20251122T220000
DTSTAMP:20260422T052812
CREATED:20250917T231039Z
LAST-MODIFIED:20260408T151921Z
UID:10008688-1763838000-1763848800@awaysis.mx
SUMMARY:Live Music: Bobbi + The Others
DESCRIPTION:Dust off your dancing boots and be ready to two-step all evening with Bobbi and the Others country-rock band Saturdays 7-10pm
URL:https://awaysis.mx/event/live-music-bobbi-the-others-2/2025-11-22/
LOCATION:Awaysis\, Aquiles Serdán\, 625\, Puerto Vallarta\, Jal\, 48380\, Mexico
ATTACH;FMTTYPE=image/jpeg:https://awaysis.mx/wp-content/uploads/2025/09/att.jotpCMwUApjyTWoV5sAAoiVeCI99JGKalL_TgcVUhi8.png.jpeg
END:VEVENT
BEGIN:VEVENT
DTSTART;TZID=America/Mexico_City:20251122T150000
DTEND;TZID=America/Mexico_City:20251122T180000
DTSTAMP:20260422T052812
CREATED:20250917T230957Z
LAST-MODIFIED:20260408T152518Z
UID:10008744-1763823600-1763834400@awaysis.mx
SUMMARY:Live Music: Las Mambas
DESCRIPTION:Las Mambas deliver a clean\, classic rock punch with Yoalli Guerrero at the mic—bold vocals\, tight band\, and an effortless build from toe-taps to full-on dancing. Catch them on every Saturday at 3:00
URL:https://awaysis.mx/event/live-music-las-mambas-2/2025-11-22/
LOCATION:Awaysis\, Aquiles Serdán\, 625\, Puerto Vallarta\, Jal\, 48380\, Mexico
ATTACH;FMTTYPE=image/jpeg:https://awaysis.mx/wp-content/uploads/2025/09/Las-Mambas-2025-2026.jpeg
END:VEVENT
BEGIN:VEVENT
DTSTART;TZID=America/Mexico_City:20251121T190000
DTEND;TZID=America/Mexico_City:20251121T220000
DTSTAMP:20260422T052812
CREATED:20250917T230859Z
LAST-MODIFIED:20260408T151205Z
UID:10008951-1763751600-1763762400@awaysis.mx
SUMMARY:Live Music: The Lovers
DESCRIPTION:Every Friday night at Awaysis catch the unbelievable band\, The Lovers live starting at 7:00!  You don’t want to miss this show!
URL:https://awaysis.mx/event/live-music-the-lovers-2/2025-11-21/
LOCATION:Awaysis\, Aquiles Serdán\, 625\, Puerto Vallarta\, Jal\, 48380\, Mexico
ATTACH;FMTTYPE=image/png:https://awaysis.mx/wp-content/uploads/2024/10/The-Lovers-1-scaled.png
END:VEVENT
BEGIN:VEVENT
DTSTART;TZID=America/Mexico_City:20251121T190000
DTEND;TZID=America/Mexico_City:20251121T220000
DTSTAMP:20260422T052812
CREATED:20250908T203801Z
LAST-MODIFIED:20260408T150128Z
UID:10013072-1763751600-1763762400@awaysis.mx
SUMMARY:Karaoke Night at Awaysis
DESCRIPTION:🎤 Tuesday nights at Awaysis mean karaoke with the one and only Carlos hosting. \nThe fun begins at 7:00 PM and the stage is open to everyone. Whether you are a shower singer\, a secret diva\, or someone who just loves to belt out a tune with friends\, this is your night. Carlos will keep the energy high\, the laughs rolling\, and make sure every brave soul who grabs the mic feels like a star. \nYou can expect a mix of incredible voices\, a few gloriously off-key performances\, and plenty of sing-alongs that will have the whole bar joining in. Cold drinks will be flowing\, and the good times are guaranteed. \nBring your friends\, your favorite song\, and a little courage. The rest will take care of itself.#KaraokeNight  #TheBarForEveryone
URL:https://awaysis.mx/event/karaoke-night-at-awaysis-2/2025-11-21/
LOCATION:Awaysis\, Aquiles Serdán\, 625\, Puerto Vallarta\, Jal\, 48380\, Mexico
ATTACH;FMTTYPE=image/jpeg:https://awaysis.mx/wp-content/uploads/2025/09/karaoke-Carlos-promo-2.jpeg
END:VEVENT
BEGIN:VEVENT
DTSTART;TZID=America/Mexico_City:20251121T150000
DTEND;TZID=America/Mexico_City:20251121T180000
DTSTAMP:20260422T052812
CREATED:20250917T230648Z
LAST-MODIFIED:20260408T151140Z
UID:10008716-1763737200-1763748000@awaysis.mx
SUMMARY:Live Music: Monaco
DESCRIPTION:See Daniel Celis and the amazing Monaco live every Friday from 3-6pm at Awaysis! \nSee more about Monaco: https://www.facebook.com/profile.php?id=61551778941516 \n 
URL:https://awaysis.mx/event/live-music-monaco-2/2025-11-21/
LOCATION:Awaysis\, Aquiles Serdán\, 625\, Puerto Vallarta\, Jal\, 48380\, Mexico
ATTACH;FMTTYPE=image/jpeg:https://awaysis.mx/wp-content/uploads/2025/09/Monaco-2025-2026-scaled.jpeg
END:VEVENT
BEGIN:VEVENT
DTSTART;TZID=America/Mexico_City:20251120T190000
DTEND;TZID=America/Mexico_City:20251120T220000
DTSTAMP:20260422T052812
CREATED:20251217T011219Z
LAST-MODIFIED:20260223T161055Z
UID:10009719-1763665200-1763676000@awaysis.mx
SUMMARY:Music Bingo!
DESCRIPTION:Every Thursday at 7:00\, we’re turning the volume up with Music Bingo at Awaysis. It’s bingo\, but instead of numbers\, you’ve got song titles and artists on your card. We’ll play short clips of familiar hits across different eras and genres\, and if you recognize it\, you mark it. First to get two lines any direction wins prizes and bragging rights. No music knowledge required\, just show up\, grab a drink\, and get ready for lots of “WAIT\, I LOVE THIS SONG!” moments. Come early\, claim your spot\, and let’s make Thursday night loud.
URL:https://awaysis.mx/event/music-bingo/2025-11-20/
LOCATION:Awaysis\, Aquiles Serdán\, 625\, Puerto Vallarta\, Jal\, 48380\, Mexico
ATTACH;FMTTYPE=image/jpeg:https://awaysis.mx/wp-content/uploads/2025/12/Music-Bingo.jpeg
END:VEVENT
BEGIN:VEVENT
DTSTART;TZID=America/Mexico_City:20251120T190000
DTEND;TZID=America/Mexico_City:20251120T220000
DTSTAMP:20260422T052812
CREATED:20251107T000749Z
LAST-MODIFIED:20251107T000749Z
UID:10009137-1763665200-1763676000@awaysis.mx
SUMMARY:Thursday Special Show: The Animals
DESCRIPTION:Let’s rock this Thursday night with The Animals at 7:00 \nEvery Thursday is a different band.
URL:https://awaysis.mx/event/thursday-special-show-the-animals/
LOCATION:Awaysis\, Aquiles Serdán\, 625\, Puerto Vallarta\, Jal\, 48380\, Mexico
ATTACH;FMTTYPE=image/jpeg:https://awaysis.mx/wp-content/uploads/2025/11/WhatsApp-Image-2025-11-06-at-11.21.51.jpeg
END:VEVENT
BEGIN:VEVENT
DTSTART;TZID=America/Mexico_City:20251120T190000
DTEND;TZID=America/Mexico_City:20251120T210000
DTSTAMP:20260422T052812
CREATED:20250917T230157Z
LAST-MODIFIED:20260316T191344Z
UID:10012734-1763665200-1763672400@awaysis.mx
SUMMARY:Live Music: The Dos Pesos Experience
DESCRIPTION:Join the Dos Pesos Experience featuring Brad Mallett and special guests  performing your favorite country and classic rock hits!  Every Wednesday at 7:00!
URL:https://awaysis.mx/event/acoustic-wednesdays-with-dos-pesos-special-time-this-week-2/2025-11-20/
LOCATION:Awaysis\, Aquiles Serdán\, 625\, Puerto Vallarta\, Jal\, 48380\, Mexico
ATTACH;FMTTYPE=image/png:https://awaysis.mx/wp-content/uploads/2025/09/6d2dfcf398aa7e2d936671b285ecf55a.png
END:VEVENT
BEGIN:VEVENT
DTSTART;TZID=America/Mexico_City:20251120T150000
DTEND;TZID=America/Mexico_City:20251120T180000
DTSTAMP:20260422T052812
CREATED:20251013T232912Z
LAST-MODIFIED:20260330T161312Z
UID:10009083-1763650800-1763661600@awaysis.mx
SUMMARY:Live Music: Velvet Storm
DESCRIPTION:The hottest new band in Puerto Vallarta playing every Thursday at 3:00 \n\n\n\nVelvet Storm plays  various musical genres such as classic rock\, oldies\, blues\, country rock\, glam rock\, metal\, disco/pop\, etc. The band started in September 2025 and consists of 5 members that are well known in the Puerto Vallarta music scene. 
URL:https://awaysis.mx/event/live-music-velvet-storm/2025-11-20/
LOCATION:Awaysis\, Aquiles Serdán\, 625\, Puerto Vallarta\, Jal\, 48380\, Mexico
ATTACH;FMTTYPE=image/jpeg:https://awaysis.mx/wp-content/uploads/2025/10/Velvet-Storm-1.jpeg
END:VEVENT
BEGIN:VEVENT
DTSTART;TZID=America/Mexico_City:20251119T190000
DTEND;TZID=America/Mexico_City:20251119T210000
DTSTAMP:20260422T052812
CREATED:20250917T230157Z
LAST-MODIFIED:20260316T191344Z
UID:10008894-1763578800-1763586000@awaysis.mx
SUMMARY:Live Music: The Dos Pesos Experience
DESCRIPTION:Join the Dos Pesos Experience featuring Brad Mallett and special guests  performing your favorite country and classic rock hits!  Every Wednesday at 7:00!
URL:https://awaysis.mx/event/acoustic-wednesdays-with-dos-pesos-special-time-this-week-2/2025-11-19/
LOCATION:Awaysis\, Aquiles Serdán\, 625\, Puerto Vallarta\, Jal\, 48380\, Mexico
ATTACH;FMTTYPE=image/png:https://awaysis.mx/wp-content/uploads/2025/09/6d2dfcf398aa7e2d936671b285ecf55a.png
END:VEVENT
BEGIN:VEVENT
DTSTART;TZID=America/Mexico_City:20251119T150000
DTEND;TZID=America/Mexico_City:20251119T180000
DTSTAMP:20260422T052812
CREATED:20250919T194431Z
LAST-MODIFIED:20260226T012012Z
UID:10009010-1763564400-1763575200@awaysis.mx
SUMMARY:Live Music: Los Wendigos
DESCRIPTION:It’s country music Wednesdays at Awaysis featuring the bluegrass country sensation\, Los Wendigos!  One of the most unique bands in Puerto Vallarta complete with fiddle\, banjo\, mandolin and washboard players.  Truly an experience you don’t want to miss!
URL:https://awaysis.mx/event/live-music-los-wendigos/2025-11-19/
LOCATION:Awaysis\, Aquiles Serdán\, 625\, Puerto Vallarta\, Jal\, 48380\, Mexico
ATTACH;FMTTYPE=image/jpeg:https://awaysis.mx/wp-content/uploads/2025/09/WhatsApp-Image-2024-04-03-at-9.09.50-PM-e1758249519523.jpeg
END:VEVENT
BEGIN:VEVENT
DTSTART;TZID=America/Mexico_City:20251118T190000
DTEND;TZID=America/Mexico_City:20251118T220000
DTSTAMP:20260422T052812
CREATED:20250908T203801Z
LAST-MODIFIED:20260408T150128Z
UID:10013071-1763492400-1763503200@awaysis.mx
SUMMARY:Karaoke Night at Awaysis
DESCRIPTION:🎤 Tuesday nights at Awaysis mean karaoke with the one and only Carlos hosting. \nThe fun begins at 7:00 PM and the stage is open to everyone. Whether you are a shower singer\, a secret diva\, or someone who just loves to belt out a tune with friends\, this is your night. Carlos will keep the energy high\, the laughs rolling\, and make sure every brave soul who grabs the mic feels like a star. \nYou can expect a mix of incredible voices\, a few gloriously off-key performances\, and plenty of sing-alongs that will have the whole bar joining in. Cold drinks will be flowing\, and the good times are guaranteed. \nBring your friends\, your favorite song\, and a little courage. The rest will take care of itself.#KaraokeNight  #TheBarForEveryone
URL:https://awaysis.mx/event/karaoke-night-at-awaysis-2/2025-11-18/
LOCATION:Awaysis\, Aquiles Serdán\, 625\, Puerto Vallarta\, Jal\, 48380\, Mexico
ATTACH;FMTTYPE=image/jpeg:https://awaysis.mx/wp-content/uploads/2025/09/karaoke-Carlos-promo-2.jpeg
END:VEVENT
BEGIN:VEVENT
DTSTART;TZID=America/Mexico_City:20251118T150000
DTEND;TZID=America/Mexico_City:20251118T173000
DTSTAMP:20260422T052812
CREATED:20250908T204927Z
LAST-MODIFIED:20260408T145855Z
UID:10008801-1763478000-1763487000@awaysis.mx
SUMMARY:Awaysis Bingo Tuesdays
DESCRIPTION:DROP-IN-BINGO\n\n\n\nPlay as many or as few games AND as many or as few faces per game as you want!\n\n\n\n\n\nFood Available from The Chicken Coop at Awaysis. Yummy!\n\n\nAwaysis helps support Campamento Escuela tortuguero (turtle rescue) for more information visit our facebook page.
URL:https://awaysis.mx/event/awaysis-bingo-tuesdays-2/2025-11-18/
LOCATION:Awaysis\, Aquiles Serdán\, 625\, Puerto Vallarta\, Jal\, 48380\, Mexico
ATTACH;FMTTYPE=image/jpeg:https://awaysis.mx/wp-content/uploads/2024/11/Bingo-2-3.jpeg
END:VEVENT
BEGIN:VEVENT
DTSTART;TZID=America/Mexico_City:20251118T120000
DTEND;TZID=America/Mexico_City:20251118T150000
DTSTAMP:20260422T052812
CREATED:20250908T213627Z
LAST-MODIFIED:20260408T145815Z
UID:10008831-1763467200-1763478000@awaysis.mx
SUMMARY:Awaysis Game Day! Cribbage Tournament Tuesdays!
DESCRIPTION:Tuesday Game day at Awaysis! Come join us at 12:00 for some fun Cribbage tournaments with your host Kelly Shannon Gauthier! \nIf you have an extra board\, bring it along !
URL:https://awaysis.mx/event/awaysis-game-day-cribbage-tournament-tuesdays/2025-11-18/
LOCATION:Awaysis\, Aquiles Serdán\, 625\, Puerto Vallarta\, Jal\, 48380\, Mexico
ATTACH;FMTTYPE=image/jpeg:https://awaysis.mx/wp-content/uploads/2025/09/Cribbage-2-3.jpeg
END:VEVENT
BEGIN:VEVENT
DTSTART;TZID=America/Mexico_City:20251116T190000
DTEND;TZID=America/Mexico_City:20251116T220000
DTSTAMP:20260422T052812
CREATED:20260408T152159Z
LAST-MODIFIED:20260408T152200Z
UID:10013278-1763319600-1763330400@awaysis.mx
SUMMARY:Smart-Ass Trivia at Awaysis
DESCRIPTION:You like hanging out with friends and strangers\, showing off how smart you are\, and winning booze and food?\nSo do we!\nJoin us Sunday nights at 7 for Smart-ass Trivia at Awaysis!\nSmart-Ass-in-Chief\, AJ will be here to plumb the depths of your brains with 6 rounds of spoken questions and 1 wild card round. Topics may include general knowledge\, current events\, popular culture\, Vallarta\, history\, sports\, spirits\, art\, music\, literature\, nature… everything from Chimpan-A to Chimpan-Z. Let’s just say it’s broad-ranging.Bring a team \, or if you don’t have one\, we can find a team for you to join (or meet other solo players to form a new super-team)! \nFine print/details/how does this shit work? \nTeams may be up to 6 players. If you have more than 6\, congratulations! You now have 2 rival teams — prepare to have it out\, trivia-style.\nAfter 3 rounds of spoken trivia and the wild card round\, first half scores will be tallied.\nThe team in the lead at the half wins a round of house shots.\nThe overall winning team at the end of the game gets a $500 credit\, either taken off their tab for the night or for use in the future.
URL:https://awaysis.mx/event/smart-ass-trivia-at-awaysis-2/2025-11-16/
LOCATION:Awaysis\, Aquiles Serdán\, 625\, Puerto Vallarta\, Jal\, 48380\, Mexico
ATTACH;FMTTYPE=image/jpeg:https://awaysis.mx/wp-content/uploads/2025/09/SAT-for-screen.jpg
END:VEVENT
END:VCALENDAR