BEGIN:VCALENDAR
VERSION:2.0
PRODID:-//Awaysis Bar &amp; Restaurant - ECPv6.15.20//NONSGML v1.0//EN
CALSCALE:GREGORIAN
METHOD:PUBLISH
X-ORIGINAL-URL:https://awaysis.mx
X-WR-CALDESC:Events for Awaysis Bar &amp; Restaurant
REFRESH-INTERVAL;VALUE=DURATION:PT1H
X-Robots-Tag:noindex
X-PUBLISHED-TTL:PT1H
BEGIN:VTIMEZONE
TZID:America/Mexico_City
BEGIN:STANDARD
TZOFFSETFROM:-0600
TZOFFSETTO:-0600
TZNAME:CST
DTSTART:20250101T000000
END:STANDARD
END:VTIMEZONE
BEGIN:VEVENT
DTSTART;TZID=America/Mexico_City:20260914T140000
DTEND;TZID=America/Mexico_City:20260914T230000
DTSTAMP:20260421T185936
CREATED:20260417T220112Z
LAST-MODIFIED:20260417T220112Z
UID:10013470-1789394400-1789426800@awaysis.mx
SUMMARY:Monday ALL DAY HAPPY HOUR @ Awaysis Rio Bar
DESCRIPTION:Monday’s are All Day Happy Hour at the air conditioned Awaysis Rio Bar! \nEnjoy \nCorona/Pacifico 40 pesos \nHouse Margarita 65 pesos \nHouse Wine 60 pesos \nHouse Cocktails 60 pesos
URL:https://awaysis.mx/event/monday-all-day-happy-hour-awaysis-rio-bar/2026-09-14/
LOCATION:Awaysis Rio Bar\, Rivera del Rio 166\, Puerto Vallarta\, Jalisco\, 48380\, Mexico
ATTACH;FMTTYPE=image/jpeg:https://awaysis.mx/wp-content/uploads/2026/04/happy-hour-new-2.jpeg
END:VEVENT
BEGIN:VEVENT
DTSTART;TZID=America/Mexico_City:20260914T143000
DTEND;TZID=America/Mexico_City:20260914T170000
DTSTAMP:20260421T185936
CREATED:20260417T214707Z
LAST-MODIFIED:20260417T214707Z
UID:10013447-1789396200-1789405200@awaysis.mx
SUMMARY:Cribbage Tournaments @ Awaysis Rio Bar
DESCRIPTION:Monday Game Day at the air conditioned Awaysis Rio Bar! Come join us at 2:30 for some fun Cribbage tournaments!  Happy Hour All Day!
URL:https://awaysis.mx/event/cribbage-tournaments-awaysis-rio-bar/2026-09-14/
LOCATION:Awaysis Rio Bar\, Rivera del Rio 166\, Puerto Vallarta\, Jalisco\, 48380\, Mexico
ATTACH;FMTTYPE=image/jpeg:https://awaysis.mx/wp-content/uploads/2026/04/Cribbage-2-4.jpeg
END:VEVENT
BEGIN:VEVENT
DTSTART;TZID=America/Mexico_City:20260915T190000
DTEND;TZID=America/Mexico_City:20260915T223000
DTSTAMP:20260421T185936
CREATED:20260408T150356Z
LAST-MODIFIED:20260408T153104Z
UID:10013363-1789498800-1789511400@awaysis.mx
SUMMARY:Karaoke Night @ Awaysis Rio Bar!
DESCRIPTION:Join us every Tuesday at the air conditioned Awaysis Rio Bar for Karaoke Night from 7-10:30pm with  host\, Carlos!
URL:https://awaysis.mx/event/karaoke-night-awaysis-rio-bar-2-2-2/2026-09-15/
LOCATION:Awaysis Rio Bar\, Rivera del Rio 166\, Puerto Vallarta\, Jalisco\, 48380\, Mexico
ATTACH;FMTTYPE=image/jpeg:https://awaysis.mx/wp-content/uploads/2025/04/karaoke-Carlos-promo.jpeg
END:VEVENT
BEGIN:VEVENT
DTSTART;TZID=America/Mexico_City:20260916T190000
DTEND;TZID=America/Mexico_City:20260916T213000
DTSTAMP:20260421T185936
CREATED:20260413T193318Z
LAST-MODIFIED:20260413T193347Z
UID:10013422-1789585200-1789594200@awaysis.mx
SUMMARY:Bingo @ Awaysis Rio Bar
DESCRIPTION:DROP-IN-BINGO\n\n\n\nPlay as many or as few games AND as many or as few faces per game as you want!\nEnjoy happy hour drink specials and 100 peso smashburgers!\n\n\n\n\n\nAwaysis Rio Bar helps support Campamento Escuela tortuguero
URL:https://awaysis.mx/event/bingo-awaysis-rio-bar-3/2026-09-16/
LOCATION:Awaysis\, Aquiles Serdán\, 625\, Puerto Vallarta\, Jal\, 48380\, Mexico
ATTACH;FMTTYPE=image/jpeg:https://awaysis.mx/wp-content/uploads/2026/04/Bingo-2-4.jpeg
END:VEVENT
BEGIN:VEVENT
DTSTART;TZID=America/Mexico_City:20260920T190000
DTEND;TZID=America/Mexico_City:20260920T220000
DTSTAMP:20260421T185936
CREATED:20260408T152416Z
LAST-MODIFIED:20260408T152722Z
UID:10013340-1789930800-1789941600@awaysis.mx
SUMMARY:Smart-Ass Trivia @ Awaysis Rio Bar!
DESCRIPTION:You like hanging out with friends and strangers\, showing off how smart you are\, and winning booze and food?\nSo do we!\nJoin us Sunday nights at 7 for Smart-ass Trivia at the cool\, air conditioned\, Awaysis Rio Bar!\nSmart-Ass-in-Chief\, AJ will be here to plumb the depths of your brains with 6 rounds of spoken questions and 1 wild card round. Topics may include general knowledge\, current events\, popular culture\, Vallarta\, history\, sports\, spirits\, art\, music\, literature\, nature… everything from Chimpan-A to Chimpan-Z. Let’s just say it’s broad-ranging.Bring a team \, or if you don’t have one\, we can find a team for you to join (or meet other solo players to form a new super-team)! \nFine print/details/how does this shit work? \nTeams may be up to 6 players. If you have more than 6\, congratulations! You now have 2 rival teams — prepare to have it out\, trivia-style.\nAfter 3 rounds of spoken trivia and the wild card round\, first half scores will be tallied.\nThe team in the lead at the half wins a round of house shots.\nThe overall winning team at the end of the game gets a $500 credit\, either taken off their tab for the night or for use in the future.
URL:https://awaysis.mx/event/smart-ass-trivia-awaysis-rio-bar-2/2026-09-20/
LOCATION:Awaysis Rio Bar\, Rivera del Rio 166\, Puerto Vallarta\, Jalisco\, 48380\, Mexico
ATTACH;FMTTYPE=image/jpeg:https://awaysis.mx/wp-content/uploads/2025/04/sat-for-screen-Large.jpeg
END:VEVENT
BEGIN:VEVENT
DTSTART;TZID=America/Mexico_City:20260921T140000
DTEND;TZID=America/Mexico_City:20260921T230000
DTSTAMP:20260421T185936
CREATED:20260417T220112Z
LAST-MODIFIED:20260417T220112Z
UID:10013471-1789999200-1790031600@awaysis.mx
SUMMARY:Monday ALL DAY HAPPY HOUR @ Awaysis Rio Bar
DESCRIPTION:Monday’s are All Day Happy Hour at the air conditioned Awaysis Rio Bar! \nEnjoy \nCorona/Pacifico 40 pesos \nHouse Margarita 65 pesos \nHouse Wine 60 pesos \nHouse Cocktails 60 pesos
URL:https://awaysis.mx/event/monday-all-day-happy-hour-awaysis-rio-bar/2026-09-21/
LOCATION:Awaysis Rio Bar\, Rivera del Rio 166\, Puerto Vallarta\, Jalisco\, 48380\, Mexico
ATTACH;FMTTYPE=image/jpeg:https://awaysis.mx/wp-content/uploads/2026/04/happy-hour-new-2.jpeg
END:VEVENT
BEGIN:VEVENT
DTSTART;TZID=America/Mexico_City:20260921T143000
DTEND;TZID=America/Mexico_City:20260921T170000
DTSTAMP:20260421T185936
CREATED:20260417T214707Z
LAST-MODIFIED:20260417T214707Z
UID:10013448-1790001000-1790010000@awaysis.mx
SUMMARY:Cribbage Tournaments @ Awaysis Rio Bar
DESCRIPTION:Monday Game Day at the air conditioned Awaysis Rio Bar! Come join us at 2:30 for some fun Cribbage tournaments!  Happy Hour All Day!
URL:https://awaysis.mx/event/cribbage-tournaments-awaysis-rio-bar/2026-09-21/
LOCATION:Awaysis Rio Bar\, Rivera del Rio 166\, Puerto Vallarta\, Jalisco\, 48380\, Mexico
ATTACH;FMTTYPE=image/jpeg:https://awaysis.mx/wp-content/uploads/2026/04/Cribbage-2-4.jpeg
END:VEVENT
BEGIN:VEVENT
DTSTART;TZID=America/Mexico_City:20260922T190000
DTEND;TZID=America/Mexico_City:20260922T223000
DTSTAMP:20260421T185936
CREATED:20260408T150356Z
LAST-MODIFIED:20260408T153104Z
UID:10013364-1790103600-1790116200@awaysis.mx
SUMMARY:Karaoke Night @ Awaysis Rio Bar!
DESCRIPTION:Join us every Tuesday at the air conditioned Awaysis Rio Bar for Karaoke Night from 7-10:30pm with  host\, Carlos!
URL:https://awaysis.mx/event/karaoke-night-awaysis-rio-bar-2-2-2/2026-09-22/
LOCATION:Awaysis Rio Bar\, Rivera del Rio 166\, Puerto Vallarta\, Jalisco\, 48380\, Mexico
ATTACH;FMTTYPE=image/jpeg:https://awaysis.mx/wp-content/uploads/2025/04/karaoke-Carlos-promo.jpeg
END:VEVENT
BEGIN:VEVENT
DTSTART;TZID=America/Mexico_City:20260923T190000
DTEND;TZID=America/Mexico_City:20260923T213000
DTSTAMP:20260421T185936
CREATED:20260413T193318Z
LAST-MODIFIED:20260413T193347Z
UID:10013423-1790190000-1790199000@awaysis.mx
SUMMARY:Bingo @ Awaysis Rio Bar
DESCRIPTION:DROP-IN-BINGO\n\n\n\nPlay as many or as few games AND as many or as few faces per game as you want!\nEnjoy happy hour drink specials and 100 peso smashburgers!\n\n\n\n\n\nAwaysis Rio Bar helps support Campamento Escuela tortuguero
URL:https://awaysis.mx/event/bingo-awaysis-rio-bar-3/2026-09-23/
LOCATION:Awaysis\, Aquiles Serdán\, 625\, Puerto Vallarta\, Jal\, 48380\, Mexico
ATTACH;FMTTYPE=image/jpeg:https://awaysis.mx/wp-content/uploads/2026/04/Bingo-2-4.jpeg
END:VEVENT
BEGIN:VEVENT
DTSTART;TZID=America/Mexico_City:20260927T190000
DTEND;TZID=America/Mexico_City:20260927T220000
DTSTAMP:20260421T185936
CREATED:20260408T152416Z
LAST-MODIFIED:20260408T152722Z
UID:10013341-1790535600-1790546400@awaysis.mx
SUMMARY:Smart-Ass Trivia @ Awaysis Rio Bar!
DESCRIPTION:You like hanging out with friends and strangers\, showing off how smart you are\, and winning booze and food?\nSo do we!\nJoin us Sunday nights at 7 for Smart-ass Trivia at the cool\, air conditioned\, Awaysis Rio Bar!\nSmart-Ass-in-Chief\, AJ will be here to plumb the depths of your brains with 6 rounds of spoken questions and 1 wild card round. Topics may include general knowledge\, current events\, popular culture\, Vallarta\, history\, sports\, spirits\, art\, music\, literature\, nature… everything from Chimpan-A to Chimpan-Z. Let’s just say it’s broad-ranging.Bring a team \, or if you don’t have one\, we can find a team for you to join (or meet other solo players to form a new super-team)! \nFine print/details/how does this shit work? \nTeams may be up to 6 players. If you have more than 6\, congratulations! You now have 2 rival teams — prepare to have it out\, trivia-style.\nAfter 3 rounds of spoken trivia and the wild card round\, first half scores will be tallied.\nThe team in the lead at the half wins a round of house shots.\nThe overall winning team at the end of the game gets a $500 credit\, either taken off their tab for the night or for use in the future.
URL:https://awaysis.mx/event/smart-ass-trivia-awaysis-rio-bar-2/2026-09-27/
LOCATION:Awaysis Rio Bar\, Rivera del Rio 166\, Puerto Vallarta\, Jalisco\, 48380\, Mexico
ATTACH;FMTTYPE=image/jpeg:https://awaysis.mx/wp-content/uploads/2025/04/sat-for-screen-Large.jpeg
END:VEVENT
BEGIN:VEVENT
DTSTART;TZID=America/Mexico_City:20260928T140000
DTEND;TZID=America/Mexico_City:20260928T230000
DTSTAMP:20260421T185936
CREATED:20260417T220112Z
LAST-MODIFIED:20260417T220112Z
UID:10013472-1790604000-1790636400@awaysis.mx
SUMMARY:Monday ALL DAY HAPPY HOUR @ Awaysis Rio Bar
DESCRIPTION:Monday’s are All Day Happy Hour at the air conditioned Awaysis Rio Bar! \nEnjoy \nCorona/Pacifico 40 pesos \nHouse Margarita 65 pesos \nHouse Wine 60 pesos \nHouse Cocktails 60 pesos
URL:https://awaysis.mx/event/monday-all-day-happy-hour-awaysis-rio-bar/2026-09-28/
LOCATION:Awaysis Rio Bar\, Rivera del Rio 166\, Puerto Vallarta\, Jalisco\, 48380\, Mexico
ATTACH;FMTTYPE=image/jpeg:https://awaysis.mx/wp-content/uploads/2026/04/happy-hour-new-2.jpeg
END:VEVENT
BEGIN:VEVENT
DTSTART;TZID=America/Mexico_City:20260928T143000
DTEND;TZID=America/Mexico_City:20260928T170000
DTSTAMP:20260421T185936
CREATED:20260417T214707Z
LAST-MODIFIED:20260417T214707Z
UID:10013449-1790605800-1790614800@awaysis.mx
SUMMARY:Cribbage Tournaments @ Awaysis Rio Bar
DESCRIPTION:Monday Game Day at the air conditioned Awaysis Rio Bar! Come join us at 2:30 for some fun Cribbage tournaments!  Happy Hour All Day!
URL:https://awaysis.mx/event/cribbage-tournaments-awaysis-rio-bar/2026-09-28/
LOCATION:Awaysis Rio Bar\, Rivera del Rio 166\, Puerto Vallarta\, Jalisco\, 48380\, Mexico
ATTACH;FMTTYPE=image/jpeg:https://awaysis.mx/wp-content/uploads/2026/04/Cribbage-2-4.jpeg
END:VEVENT
BEGIN:VEVENT
DTSTART;TZID=America/Mexico_City:20260929T190000
DTEND;TZID=America/Mexico_City:20260929T223000
DTSTAMP:20260421T185936
CREATED:20260408T150356Z
LAST-MODIFIED:20260408T153104Z
UID:10013365-1790708400-1790721000@awaysis.mx
SUMMARY:Karaoke Night @ Awaysis Rio Bar!
DESCRIPTION:Join us every Tuesday at the air conditioned Awaysis Rio Bar for Karaoke Night from 7-10:30pm with  host\, Carlos!
URL:https://awaysis.mx/event/karaoke-night-awaysis-rio-bar-2-2-2/2026-09-29/
LOCATION:Awaysis Rio Bar\, Rivera del Rio 166\, Puerto Vallarta\, Jalisco\, 48380\, Mexico
ATTACH;FMTTYPE=image/jpeg:https://awaysis.mx/wp-content/uploads/2025/04/karaoke-Carlos-promo.jpeg
END:VEVENT
BEGIN:VEVENT
DTSTART;TZID=America/Mexico_City:20260930T190000
DTEND;TZID=America/Mexico_City:20260930T213000
DTSTAMP:20260421T185936
CREATED:20260413T193318Z
LAST-MODIFIED:20260413T193347Z
UID:10013424-1790794800-1790803800@awaysis.mx
SUMMARY:Bingo @ Awaysis Rio Bar
DESCRIPTION:DROP-IN-BINGO\n\n\n\nPlay as many or as few games AND as many or as few faces per game as you want!\nEnjoy happy hour drink specials and 100 peso smashburgers!\n\n\n\n\n\nAwaysis Rio Bar helps support Campamento Escuela tortuguero
URL:https://awaysis.mx/event/bingo-awaysis-rio-bar-3/2026-09-30/
LOCATION:Awaysis\, Aquiles Serdán\, 625\, Puerto Vallarta\, Jal\, 48380\, Mexico
ATTACH;FMTTYPE=image/jpeg:https://awaysis.mx/wp-content/uploads/2026/04/Bingo-2-4.jpeg
END:VEVENT
BEGIN:VEVENT
DTSTART;TZID=America/Mexico_City:20261004T190000
DTEND;TZID=America/Mexico_City:20261004T220000
DTSTAMP:20260421T185936
CREATED:20260408T152416Z
LAST-MODIFIED:20260408T152722Z
UID:10013342-1791140400-1791151200@awaysis.mx
SUMMARY:Smart-Ass Trivia @ Awaysis Rio Bar!
DESCRIPTION:You like hanging out with friends and strangers\, showing off how smart you are\, and winning booze and food?\nSo do we!\nJoin us Sunday nights at 7 for Smart-ass Trivia at the cool\, air conditioned\, Awaysis Rio Bar!\nSmart-Ass-in-Chief\, AJ will be here to plumb the depths of your brains with 6 rounds of spoken questions and 1 wild card round. Topics may include general knowledge\, current events\, popular culture\, Vallarta\, history\, sports\, spirits\, art\, music\, literature\, nature… everything from Chimpan-A to Chimpan-Z. Let’s just say it’s broad-ranging.Bring a team \, or if you don’t have one\, we can find a team for you to join (or meet other solo players to form a new super-team)! \nFine print/details/how does this shit work? \nTeams may be up to 6 players. If you have more than 6\, congratulations! You now have 2 rival teams — prepare to have it out\, trivia-style.\nAfter 3 rounds of spoken trivia and the wild card round\, first half scores will be tallied.\nThe team in the lead at the half wins a round of house shots.\nThe overall winning team at the end of the game gets a $500 credit\, either taken off their tab for the night or for use in the future.
URL:https://awaysis.mx/event/smart-ass-trivia-awaysis-rio-bar-2/2026-10-04/
LOCATION:Awaysis Rio Bar\, Rivera del Rio 166\, Puerto Vallarta\, Jalisco\, 48380\, Mexico
ATTACH;FMTTYPE=image/jpeg:https://awaysis.mx/wp-content/uploads/2025/04/sat-for-screen-Large.jpeg
END:VEVENT
BEGIN:VEVENT
DTSTART;TZID=America/Mexico_City:20261006T190000
DTEND;TZID=America/Mexico_City:20261006T223000
DTSTAMP:20260421T185936
CREATED:20260408T150356Z
LAST-MODIFIED:20260408T153104Z
UID:10013366-1791313200-1791325800@awaysis.mx
SUMMARY:Karaoke Night @ Awaysis Rio Bar!
DESCRIPTION:Join us every Tuesday at the air conditioned Awaysis Rio Bar for Karaoke Night from 7-10:30pm with  host\, Carlos!
URL:https://awaysis.mx/event/karaoke-night-awaysis-rio-bar-2-2-2/2026-10-06/
LOCATION:Awaysis Rio Bar\, Rivera del Rio 166\, Puerto Vallarta\, Jalisco\, 48380\, Mexico
ATTACH;FMTTYPE=image/jpeg:https://awaysis.mx/wp-content/uploads/2025/04/karaoke-Carlos-promo.jpeg
END:VEVENT
BEGIN:VEVENT
DTSTART;TZID=America/Mexico_City:20261011T190000
DTEND;TZID=America/Mexico_City:20261011T220000
DTSTAMP:20260421T185936
CREATED:20260408T152416Z
LAST-MODIFIED:20260408T152722Z
UID:10013343-1791745200-1791756000@awaysis.mx
SUMMARY:Smart-Ass Trivia @ Awaysis Rio Bar!
DESCRIPTION:You like hanging out with friends and strangers\, showing off how smart you are\, and winning booze and food?\nSo do we!\nJoin us Sunday nights at 7 for Smart-ass Trivia at the cool\, air conditioned\, Awaysis Rio Bar!\nSmart-Ass-in-Chief\, AJ will be here to plumb the depths of your brains with 6 rounds of spoken questions and 1 wild card round. Topics may include general knowledge\, current events\, popular culture\, Vallarta\, history\, sports\, spirits\, art\, music\, literature\, nature… everything from Chimpan-A to Chimpan-Z. Let’s just say it’s broad-ranging.Bring a team \, or if you don’t have one\, we can find a team for you to join (or meet other solo players to form a new super-team)! \nFine print/details/how does this shit work? \nTeams may be up to 6 players. If you have more than 6\, congratulations! You now have 2 rival teams — prepare to have it out\, trivia-style.\nAfter 3 rounds of spoken trivia and the wild card round\, first half scores will be tallied.\nThe team in the lead at the half wins a round of house shots.\nThe overall winning team at the end of the game gets a $500 credit\, either taken off their tab for the night or for use in the future.
URL:https://awaysis.mx/event/smart-ass-trivia-awaysis-rio-bar-2/2026-10-11/
LOCATION:Awaysis Rio Bar\, Rivera del Rio 166\, Puerto Vallarta\, Jalisco\, 48380\, Mexico
ATTACH;FMTTYPE=image/jpeg:https://awaysis.mx/wp-content/uploads/2025/04/sat-for-screen-Large.jpeg
END:VEVENT
END:VCALENDAR