BEGIN:VCALENDAR
VERSION:2.0
PRODID:-//Awaysis Bar &amp; Restaurant - ECPv6.15.20//NONSGML v1.0//EN
CALSCALE:GREGORIAN
METHOD:PUBLISH
X-WR-CALNAME:Awaysis Bar &amp; Restaurant
X-ORIGINAL-URL:https://awaysis.mx
X-WR-CALDESC:Events for Awaysis Bar &amp; Restaurant
REFRESH-INTERVAL;VALUE=DURATION:PT1H
X-Robots-Tag:noindex
X-PUBLISHED-TTL:PT1H
BEGIN:VTIMEZONE
TZID:America/Mexico_City
BEGIN:STANDARD
TZOFFSETFROM:-0600
TZOFFSETTO:-0600
TZNAME:CST
DTSTART:20250101T000000
END:STANDARD
END:VTIMEZONE
BEGIN:VEVENT
DTSTART;TZID=America/Mexico_City:20260720T140000
DTEND;TZID=America/Mexico_City:20260720T230000
DTSTAMP:20260421T165844
CREATED:20260417T220112Z
LAST-MODIFIED:20260417T220112Z
UID:10013462-1784556000-1784588400@awaysis.mx
SUMMARY:Monday ALL DAY HAPPY HOUR @ Awaysis Rio Bar
DESCRIPTION:Monday’s are All Day Happy Hour at the air conditioned Awaysis Rio Bar! \nEnjoy \nCorona/Pacifico 40 pesos \nHouse Margarita 65 pesos \nHouse Wine 60 pesos \nHouse Cocktails 60 pesos
URL:https://awaysis.mx/event/monday-all-day-happy-hour-awaysis-rio-bar/2026-07-20/
LOCATION:Awaysis Rio Bar\, Rivera del Rio 166\, Puerto Vallarta\, Jalisco\, 48380\, Mexico
ATTACH;FMTTYPE=image/jpeg:https://awaysis.mx/wp-content/uploads/2026/04/happy-hour-new-2.jpeg
END:VEVENT
BEGIN:VEVENT
DTSTART;TZID=America/Mexico_City:20260720T143000
DTEND;TZID=America/Mexico_City:20260720T170000
DTSTAMP:20260421T165844
CREATED:20260417T214707Z
LAST-MODIFIED:20260417T214707Z
UID:10013439-1784557800-1784566800@awaysis.mx
SUMMARY:Cribbage Tournaments @ Awaysis Rio Bar
DESCRIPTION:Monday Game Day at the air conditioned Awaysis Rio Bar! Come join us at 2:30 for some fun Cribbage tournaments!  Happy Hour All Day!
URL:https://awaysis.mx/event/cribbage-tournaments-awaysis-rio-bar/2026-07-20/
LOCATION:Awaysis Rio Bar\, Rivera del Rio 166\, Puerto Vallarta\, Jalisco\, 48380\, Mexico
ATTACH;FMTTYPE=image/jpeg:https://awaysis.mx/wp-content/uploads/2026/04/Cribbage-2-4.jpeg
END:VEVENT
BEGIN:VEVENT
DTSTART;TZID=America/Mexico_City:20260721T190000
DTEND;TZID=America/Mexico_City:20260721T223000
DTSTAMP:20260421T165844
CREATED:20260408T150356Z
LAST-MODIFIED:20260408T153104Z
UID:10013355-1784660400-1784673000@awaysis.mx
SUMMARY:Karaoke Night @ Awaysis Rio Bar!
DESCRIPTION:Join us every Tuesday at the air conditioned Awaysis Rio Bar for Karaoke Night from 7-10:30pm with  host\, Carlos!
URL:https://awaysis.mx/event/karaoke-night-awaysis-rio-bar-2-2-2/2026-07-21/
LOCATION:Awaysis Rio Bar\, Rivera del Rio 166\, Puerto Vallarta\, Jalisco\, 48380\, Mexico
ATTACH;FMTTYPE=image/jpeg:https://awaysis.mx/wp-content/uploads/2025/04/karaoke-Carlos-promo.jpeg
END:VEVENT
BEGIN:VEVENT
DTSTART;TZID=America/Mexico_City:20260722T190000
DTEND;TZID=America/Mexico_City:20260722T213000
DTSTAMP:20260421T165844
CREATED:20260413T193318Z
LAST-MODIFIED:20260413T193347Z
UID:10013414-1784746800-1784755800@awaysis.mx
SUMMARY:Bingo @ Awaysis Rio Bar
DESCRIPTION:DROP-IN-BINGO\n\n\n\nPlay as many or as few games AND as many or as few faces per game as you want!\nEnjoy happy hour drink specials and 100 peso smashburgers!\n\n\n\n\n\nAwaysis Rio Bar helps support Campamento Escuela tortuguero
URL:https://awaysis.mx/event/bingo-awaysis-rio-bar-3/2026-07-22/
LOCATION:Awaysis\, Aquiles Serdán\, 625\, Puerto Vallarta\, Jal\, 48380\, Mexico
ATTACH;FMTTYPE=image/jpeg:https://awaysis.mx/wp-content/uploads/2026/04/Bingo-2-4.jpeg
END:VEVENT
BEGIN:VEVENT
DTSTART;TZID=America/Mexico_City:20260726T190000
DTEND;TZID=America/Mexico_City:20260726T220000
DTSTAMP:20260421T165844
CREATED:20260408T152416Z
LAST-MODIFIED:20260408T152722Z
UID:10013332-1785092400-1785103200@awaysis.mx
SUMMARY:Smart-Ass Trivia @ Awaysis Rio Bar!
DESCRIPTION:You like hanging out with friends and strangers\, showing off how smart you are\, and winning booze and food?\nSo do we!\nJoin us Sunday nights at 7 for Smart-ass Trivia at the cool\, air conditioned\, Awaysis Rio Bar!\nSmart-Ass-in-Chief\, AJ will be here to plumb the depths of your brains with 6 rounds of spoken questions and 1 wild card round. Topics may include general knowledge\, current events\, popular culture\, Vallarta\, history\, sports\, spirits\, art\, music\, literature\, nature… everything from Chimpan-A to Chimpan-Z. Let’s just say it’s broad-ranging.Bring a team \, or if you don’t have one\, we can find a team for you to join (or meet other solo players to form a new super-team)! \nFine print/details/how does this shit work? \nTeams may be up to 6 players. If you have more than 6\, congratulations! You now have 2 rival teams — prepare to have it out\, trivia-style.\nAfter 3 rounds of spoken trivia and the wild card round\, first half scores will be tallied.\nThe team in the lead at the half wins a round of house shots.\nThe overall winning team at the end of the game gets a $500 credit\, either taken off their tab for the night or for use in the future.
URL:https://awaysis.mx/event/smart-ass-trivia-awaysis-rio-bar-2/2026-07-26/
LOCATION:Awaysis Rio Bar\, Rivera del Rio 166\, Puerto Vallarta\, Jalisco\, 48380\, Mexico
ATTACH;FMTTYPE=image/jpeg:https://awaysis.mx/wp-content/uploads/2025/04/sat-for-screen-Large.jpeg
END:VEVENT
BEGIN:VEVENT
DTSTART;TZID=America/Mexico_City:20260727T140000
DTEND;TZID=America/Mexico_City:20260727T230000
DTSTAMP:20260421T165844
CREATED:20260417T220112Z
LAST-MODIFIED:20260417T220112Z
UID:10013463-1785160800-1785193200@awaysis.mx
SUMMARY:Monday ALL DAY HAPPY HOUR @ Awaysis Rio Bar
DESCRIPTION:Monday’s are All Day Happy Hour at the air conditioned Awaysis Rio Bar! \nEnjoy \nCorona/Pacifico 40 pesos \nHouse Margarita 65 pesos \nHouse Wine 60 pesos \nHouse Cocktails 60 pesos
URL:https://awaysis.mx/event/monday-all-day-happy-hour-awaysis-rio-bar/2026-07-27/
LOCATION:Awaysis Rio Bar\, Rivera del Rio 166\, Puerto Vallarta\, Jalisco\, 48380\, Mexico
ATTACH;FMTTYPE=image/jpeg:https://awaysis.mx/wp-content/uploads/2026/04/happy-hour-new-2.jpeg
END:VEVENT
BEGIN:VEVENT
DTSTART;TZID=America/Mexico_City:20260727T143000
DTEND;TZID=America/Mexico_City:20260727T170000
DTSTAMP:20260421T165844
CREATED:20260417T214707Z
LAST-MODIFIED:20260417T214707Z
UID:10013440-1785162600-1785171600@awaysis.mx
SUMMARY:Cribbage Tournaments @ Awaysis Rio Bar
DESCRIPTION:Monday Game Day at the air conditioned Awaysis Rio Bar! Come join us at 2:30 for some fun Cribbage tournaments!  Happy Hour All Day!
URL:https://awaysis.mx/event/cribbage-tournaments-awaysis-rio-bar/2026-07-27/
LOCATION:Awaysis Rio Bar\, Rivera del Rio 166\, Puerto Vallarta\, Jalisco\, 48380\, Mexico
ATTACH;FMTTYPE=image/jpeg:https://awaysis.mx/wp-content/uploads/2026/04/Cribbage-2-4.jpeg
END:VEVENT
BEGIN:VEVENT
DTSTART;TZID=America/Mexico_City:20260728T190000
DTEND;TZID=America/Mexico_City:20260728T223000
DTSTAMP:20260421T165844
CREATED:20260408T150356Z
LAST-MODIFIED:20260408T153104Z
UID:10013356-1785265200-1785277800@awaysis.mx
SUMMARY:Karaoke Night @ Awaysis Rio Bar!
DESCRIPTION:Join us every Tuesday at the air conditioned Awaysis Rio Bar for Karaoke Night from 7-10:30pm with  host\, Carlos!
URL:https://awaysis.mx/event/karaoke-night-awaysis-rio-bar-2-2-2/2026-07-28/
LOCATION:Awaysis Rio Bar\, Rivera del Rio 166\, Puerto Vallarta\, Jalisco\, 48380\, Mexico
ATTACH;FMTTYPE=image/jpeg:https://awaysis.mx/wp-content/uploads/2025/04/karaoke-Carlos-promo.jpeg
END:VEVENT
BEGIN:VEVENT
DTSTART;TZID=America/Mexico_City:20260729T190000
DTEND;TZID=America/Mexico_City:20260729T213000
DTSTAMP:20260421T165844
CREATED:20260413T193318Z
LAST-MODIFIED:20260413T193347Z
UID:10013415-1785351600-1785360600@awaysis.mx
SUMMARY:Bingo @ Awaysis Rio Bar
DESCRIPTION:DROP-IN-BINGO\n\n\n\nPlay as many or as few games AND as many or as few faces per game as you want!\nEnjoy happy hour drink specials and 100 peso smashburgers!\n\n\n\n\n\nAwaysis Rio Bar helps support Campamento Escuela tortuguero
URL:https://awaysis.mx/event/bingo-awaysis-rio-bar-3/2026-07-29/
LOCATION:Awaysis\, Aquiles Serdán\, 625\, Puerto Vallarta\, Jal\, 48380\, Mexico
ATTACH;FMTTYPE=image/jpeg:https://awaysis.mx/wp-content/uploads/2026/04/Bingo-2-4.jpeg
END:VEVENT
BEGIN:VEVENT
DTSTART;TZID=America/Mexico_City:20260802T190000
DTEND;TZID=America/Mexico_City:20260802T220000
DTSTAMP:20260421T165844
CREATED:20260408T152416Z
LAST-MODIFIED:20260408T152722Z
UID:10013333-1785697200-1785708000@awaysis.mx
SUMMARY:Smart-Ass Trivia @ Awaysis Rio Bar!
DESCRIPTION:You like hanging out with friends and strangers\, showing off how smart you are\, and winning booze and food?\nSo do we!\nJoin us Sunday nights at 7 for Smart-ass Trivia at the cool\, air conditioned\, Awaysis Rio Bar!\nSmart-Ass-in-Chief\, AJ will be here to plumb the depths of your brains with 6 rounds of spoken questions and 1 wild card round. Topics may include general knowledge\, current events\, popular culture\, Vallarta\, history\, sports\, spirits\, art\, music\, literature\, nature… everything from Chimpan-A to Chimpan-Z. Let’s just say it’s broad-ranging.Bring a team \, or if you don’t have one\, we can find a team for you to join (or meet other solo players to form a new super-team)! \nFine print/details/how does this shit work? \nTeams may be up to 6 players. If you have more than 6\, congratulations! You now have 2 rival teams — prepare to have it out\, trivia-style.\nAfter 3 rounds of spoken trivia and the wild card round\, first half scores will be tallied.\nThe team in the lead at the half wins a round of house shots.\nThe overall winning team at the end of the game gets a $500 credit\, either taken off their tab for the night or for use in the future.
URL:https://awaysis.mx/event/smart-ass-trivia-awaysis-rio-bar-2/2026-08-02/
LOCATION:Awaysis Rio Bar\, Rivera del Rio 166\, Puerto Vallarta\, Jalisco\, 48380\, Mexico
ATTACH;FMTTYPE=image/jpeg:https://awaysis.mx/wp-content/uploads/2025/04/sat-for-screen-Large.jpeg
END:VEVENT
BEGIN:VEVENT
DTSTART;TZID=America/Mexico_City:20260803T140000
DTEND;TZID=America/Mexico_City:20260803T230000
DTSTAMP:20260421T165844
CREATED:20260417T220112Z
LAST-MODIFIED:20260417T220112Z
UID:10013464-1785765600-1785798000@awaysis.mx
SUMMARY:Monday ALL DAY HAPPY HOUR @ Awaysis Rio Bar
DESCRIPTION:Monday’s are All Day Happy Hour at the air conditioned Awaysis Rio Bar! \nEnjoy \nCorona/Pacifico 40 pesos \nHouse Margarita 65 pesos \nHouse Wine 60 pesos \nHouse Cocktails 60 pesos
URL:https://awaysis.mx/event/monday-all-day-happy-hour-awaysis-rio-bar/2026-08-03/
LOCATION:Awaysis Rio Bar\, Rivera del Rio 166\, Puerto Vallarta\, Jalisco\, 48380\, Mexico
ATTACH;FMTTYPE=image/jpeg:https://awaysis.mx/wp-content/uploads/2026/04/happy-hour-new-2.jpeg
END:VEVENT
BEGIN:VEVENT
DTSTART;TZID=America/Mexico_City:20260803T143000
DTEND;TZID=America/Mexico_City:20260803T170000
DTSTAMP:20260421T165844
CREATED:20260417T214707Z
LAST-MODIFIED:20260417T214707Z
UID:10013441-1785767400-1785776400@awaysis.mx
SUMMARY:Cribbage Tournaments @ Awaysis Rio Bar
DESCRIPTION:Monday Game Day at the air conditioned Awaysis Rio Bar! Come join us at 2:30 for some fun Cribbage tournaments!  Happy Hour All Day!
URL:https://awaysis.mx/event/cribbage-tournaments-awaysis-rio-bar/2026-08-03/
LOCATION:Awaysis Rio Bar\, Rivera del Rio 166\, Puerto Vallarta\, Jalisco\, 48380\, Mexico
ATTACH;FMTTYPE=image/jpeg:https://awaysis.mx/wp-content/uploads/2026/04/Cribbage-2-4.jpeg
END:VEVENT
BEGIN:VEVENT
DTSTART;TZID=America/Mexico_City:20260804T190000
DTEND;TZID=America/Mexico_City:20260804T223000
DTSTAMP:20260421T165844
CREATED:20260408T150356Z
LAST-MODIFIED:20260408T153104Z
UID:10013357-1785870000-1785882600@awaysis.mx
SUMMARY:Karaoke Night @ Awaysis Rio Bar!
DESCRIPTION:Join us every Tuesday at the air conditioned Awaysis Rio Bar for Karaoke Night from 7-10:30pm with  host\, Carlos!
URL:https://awaysis.mx/event/karaoke-night-awaysis-rio-bar-2-2-2/2026-08-04/
LOCATION:Awaysis Rio Bar\, Rivera del Rio 166\, Puerto Vallarta\, Jalisco\, 48380\, Mexico
ATTACH;FMTTYPE=image/jpeg:https://awaysis.mx/wp-content/uploads/2025/04/karaoke-Carlos-promo.jpeg
END:VEVENT
BEGIN:VEVENT
DTSTART;TZID=America/Mexico_City:20260805T190000
DTEND;TZID=America/Mexico_City:20260805T213000
DTSTAMP:20260421T165844
CREATED:20260413T193318Z
LAST-MODIFIED:20260413T193347Z
UID:10013416-1785956400-1785965400@awaysis.mx
SUMMARY:Bingo @ Awaysis Rio Bar
DESCRIPTION:DROP-IN-BINGO\n\n\n\nPlay as many or as few games AND as many or as few faces per game as you want!\nEnjoy happy hour drink specials and 100 peso smashburgers!\n\n\n\n\n\nAwaysis Rio Bar helps support Campamento Escuela tortuguero
URL:https://awaysis.mx/event/bingo-awaysis-rio-bar-3/2026-08-05/
LOCATION:Awaysis\, Aquiles Serdán\, 625\, Puerto Vallarta\, Jal\, 48380\, Mexico
ATTACH;FMTTYPE=image/jpeg:https://awaysis.mx/wp-content/uploads/2026/04/Bingo-2-4.jpeg
END:VEVENT
BEGIN:VEVENT
DTSTART;TZID=America/Mexico_City:20260809T190000
DTEND;TZID=America/Mexico_City:20260809T220000
DTSTAMP:20260421T165844
CREATED:20260408T152416Z
LAST-MODIFIED:20260408T152722Z
UID:10013334-1786302000-1786312800@awaysis.mx
SUMMARY:Smart-Ass Trivia @ Awaysis Rio Bar!
DESCRIPTION:You like hanging out with friends and strangers\, showing off how smart you are\, and winning booze and food?\nSo do we!\nJoin us Sunday nights at 7 for Smart-ass Trivia at the cool\, air conditioned\, Awaysis Rio Bar!\nSmart-Ass-in-Chief\, AJ will be here to plumb the depths of your brains with 6 rounds of spoken questions and 1 wild card round. Topics may include general knowledge\, current events\, popular culture\, Vallarta\, history\, sports\, spirits\, art\, music\, literature\, nature… everything from Chimpan-A to Chimpan-Z. Let’s just say it’s broad-ranging.Bring a team \, or if you don’t have one\, we can find a team for you to join (or meet other solo players to form a new super-team)! \nFine print/details/how does this shit work? \nTeams may be up to 6 players. If you have more than 6\, congratulations! You now have 2 rival teams — prepare to have it out\, trivia-style.\nAfter 3 rounds of spoken trivia and the wild card round\, first half scores will be tallied.\nThe team in the lead at the half wins a round of house shots.\nThe overall winning team at the end of the game gets a $500 credit\, either taken off their tab for the night or for use in the future.
URL:https://awaysis.mx/event/smart-ass-trivia-awaysis-rio-bar-2/2026-08-09/
LOCATION:Awaysis Rio Bar\, Rivera del Rio 166\, Puerto Vallarta\, Jalisco\, 48380\, Mexico
ATTACH;FMTTYPE=image/jpeg:https://awaysis.mx/wp-content/uploads/2025/04/sat-for-screen-Large.jpeg
END:VEVENT
BEGIN:VEVENT
DTSTART;TZID=America/Mexico_City:20260810T140000
DTEND;TZID=America/Mexico_City:20260810T230000
DTSTAMP:20260421T165844
CREATED:20260417T220112Z
LAST-MODIFIED:20260417T220112Z
UID:10013465-1786370400-1786402800@awaysis.mx
SUMMARY:Monday ALL DAY HAPPY HOUR @ Awaysis Rio Bar
DESCRIPTION:Monday’s are All Day Happy Hour at the air conditioned Awaysis Rio Bar! \nEnjoy \nCorona/Pacifico 40 pesos \nHouse Margarita 65 pesos \nHouse Wine 60 pesos \nHouse Cocktails 60 pesos
URL:https://awaysis.mx/event/monday-all-day-happy-hour-awaysis-rio-bar/2026-08-10/
LOCATION:Awaysis Rio Bar\, Rivera del Rio 166\, Puerto Vallarta\, Jalisco\, 48380\, Mexico
ATTACH;FMTTYPE=image/jpeg:https://awaysis.mx/wp-content/uploads/2026/04/happy-hour-new-2.jpeg
END:VEVENT
BEGIN:VEVENT
DTSTART;TZID=America/Mexico_City:20260810T143000
DTEND;TZID=America/Mexico_City:20260810T170000
DTSTAMP:20260421T165844
CREATED:20260417T214707Z
LAST-MODIFIED:20260417T214707Z
UID:10013442-1786372200-1786381200@awaysis.mx
SUMMARY:Cribbage Tournaments @ Awaysis Rio Bar
DESCRIPTION:Monday Game Day at the air conditioned Awaysis Rio Bar! Come join us at 2:30 for some fun Cribbage tournaments!  Happy Hour All Day!
URL:https://awaysis.mx/event/cribbage-tournaments-awaysis-rio-bar/2026-08-10/
LOCATION:Awaysis Rio Bar\, Rivera del Rio 166\, Puerto Vallarta\, Jalisco\, 48380\, Mexico
ATTACH;FMTTYPE=image/jpeg:https://awaysis.mx/wp-content/uploads/2026/04/Cribbage-2-4.jpeg
END:VEVENT
BEGIN:VEVENT
DTSTART;TZID=America/Mexico_City:20260811T190000
DTEND;TZID=America/Mexico_City:20260811T223000
DTSTAMP:20260421T165844
CREATED:20260408T150356Z
LAST-MODIFIED:20260408T153104Z
UID:10013358-1786474800-1786487400@awaysis.mx
SUMMARY:Karaoke Night @ Awaysis Rio Bar!
DESCRIPTION:Join us every Tuesday at the air conditioned Awaysis Rio Bar for Karaoke Night from 7-10:30pm with  host\, Carlos!
URL:https://awaysis.mx/event/karaoke-night-awaysis-rio-bar-2-2-2/2026-08-11/
LOCATION:Awaysis Rio Bar\, Rivera del Rio 166\, Puerto Vallarta\, Jalisco\, 48380\, Mexico
ATTACH;FMTTYPE=image/jpeg:https://awaysis.mx/wp-content/uploads/2025/04/karaoke-Carlos-promo.jpeg
END:VEVENT
BEGIN:VEVENT
DTSTART;TZID=America/Mexico_City:20260812T190000
DTEND;TZID=America/Mexico_City:20260812T213000
DTSTAMP:20260421T165844
CREATED:20260413T193318Z
LAST-MODIFIED:20260413T193347Z
UID:10013417-1786561200-1786570200@awaysis.mx
SUMMARY:Bingo @ Awaysis Rio Bar
DESCRIPTION:DROP-IN-BINGO\n\n\n\nPlay as many or as few games AND as many or as few faces per game as you want!\nEnjoy happy hour drink specials and 100 peso smashburgers!\n\n\n\n\n\nAwaysis Rio Bar helps support Campamento Escuela tortuguero
URL:https://awaysis.mx/event/bingo-awaysis-rio-bar-3/2026-08-12/
LOCATION:Awaysis\, Aquiles Serdán\, 625\, Puerto Vallarta\, Jal\, 48380\, Mexico
ATTACH;FMTTYPE=image/jpeg:https://awaysis.mx/wp-content/uploads/2026/04/Bingo-2-4.jpeg
END:VEVENT
BEGIN:VEVENT
DTSTART;TZID=America/Mexico_City:20260816T190000
DTEND;TZID=America/Mexico_City:20260816T220000
DTSTAMP:20260421T165844
CREATED:20260408T152416Z
LAST-MODIFIED:20260408T152722Z
UID:10013335-1786906800-1786917600@awaysis.mx
SUMMARY:Smart-Ass Trivia @ Awaysis Rio Bar!
DESCRIPTION:You like hanging out with friends and strangers\, showing off how smart you are\, and winning booze and food?\nSo do we!\nJoin us Sunday nights at 7 for Smart-ass Trivia at the cool\, air conditioned\, Awaysis Rio Bar!\nSmart-Ass-in-Chief\, AJ will be here to plumb the depths of your brains with 6 rounds of spoken questions and 1 wild card round. Topics may include general knowledge\, current events\, popular culture\, Vallarta\, history\, sports\, spirits\, art\, music\, literature\, nature… everything from Chimpan-A to Chimpan-Z. Let’s just say it’s broad-ranging.Bring a team \, or if you don’t have one\, we can find a team for you to join (or meet other solo players to form a new super-team)! \nFine print/details/how does this shit work? \nTeams may be up to 6 players. If you have more than 6\, congratulations! You now have 2 rival teams — prepare to have it out\, trivia-style.\nAfter 3 rounds of spoken trivia and the wild card round\, first half scores will be tallied.\nThe team in the lead at the half wins a round of house shots.\nThe overall winning team at the end of the game gets a $500 credit\, either taken off their tab for the night or for use in the future.
URL:https://awaysis.mx/event/smart-ass-trivia-awaysis-rio-bar-2/2026-08-16/
LOCATION:Awaysis Rio Bar\, Rivera del Rio 166\, Puerto Vallarta\, Jalisco\, 48380\, Mexico
ATTACH;FMTTYPE=image/jpeg:https://awaysis.mx/wp-content/uploads/2025/04/sat-for-screen-Large.jpeg
END:VEVENT
BEGIN:VEVENT
DTSTART;TZID=America/Mexico_City:20260817T140000
DTEND;TZID=America/Mexico_City:20260817T230000
DTSTAMP:20260421T165844
CREATED:20260417T220112Z
LAST-MODIFIED:20260417T220112Z
UID:10013466-1786975200-1787007600@awaysis.mx
SUMMARY:Monday ALL DAY HAPPY HOUR @ Awaysis Rio Bar
DESCRIPTION:Monday’s are All Day Happy Hour at the air conditioned Awaysis Rio Bar! \nEnjoy \nCorona/Pacifico 40 pesos \nHouse Margarita 65 pesos \nHouse Wine 60 pesos \nHouse Cocktails 60 pesos
URL:https://awaysis.mx/event/monday-all-day-happy-hour-awaysis-rio-bar/2026-08-17/
LOCATION:Awaysis Rio Bar\, Rivera del Rio 166\, Puerto Vallarta\, Jalisco\, 48380\, Mexico
ATTACH;FMTTYPE=image/jpeg:https://awaysis.mx/wp-content/uploads/2026/04/happy-hour-new-2.jpeg
END:VEVENT
BEGIN:VEVENT
DTSTART;TZID=America/Mexico_City:20260817T143000
DTEND;TZID=America/Mexico_City:20260817T170000
DTSTAMP:20260421T165844
CREATED:20260417T214707Z
LAST-MODIFIED:20260417T214707Z
UID:10013443-1786977000-1786986000@awaysis.mx
SUMMARY:Cribbage Tournaments @ Awaysis Rio Bar
DESCRIPTION:Monday Game Day at the air conditioned Awaysis Rio Bar! Come join us at 2:30 for some fun Cribbage tournaments!  Happy Hour All Day!
URL:https://awaysis.mx/event/cribbage-tournaments-awaysis-rio-bar/2026-08-17/
LOCATION:Awaysis Rio Bar\, Rivera del Rio 166\, Puerto Vallarta\, Jalisco\, 48380\, Mexico
ATTACH;FMTTYPE=image/jpeg:https://awaysis.mx/wp-content/uploads/2026/04/Cribbage-2-4.jpeg
END:VEVENT
BEGIN:VEVENT
DTSTART;TZID=America/Mexico_City:20260818T190000
DTEND;TZID=America/Mexico_City:20260818T223000
DTSTAMP:20260421T165844
CREATED:20260408T150356Z
LAST-MODIFIED:20260408T153104Z
UID:10013359-1787079600-1787092200@awaysis.mx
SUMMARY:Karaoke Night @ Awaysis Rio Bar!
DESCRIPTION:Join us every Tuesday at the air conditioned Awaysis Rio Bar for Karaoke Night from 7-10:30pm with  host\, Carlos!
URL:https://awaysis.mx/event/karaoke-night-awaysis-rio-bar-2-2-2/2026-08-18/
LOCATION:Awaysis Rio Bar\, Rivera del Rio 166\, Puerto Vallarta\, Jalisco\, 48380\, Mexico
ATTACH;FMTTYPE=image/jpeg:https://awaysis.mx/wp-content/uploads/2025/04/karaoke-Carlos-promo.jpeg
END:VEVENT
BEGIN:VEVENT
DTSTART;TZID=America/Mexico_City:20260819T190000
DTEND;TZID=America/Mexico_City:20260819T213000
DTSTAMP:20260421T165844
CREATED:20260413T193318Z
LAST-MODIFIED:20260413T193347Z
UID:10013418-1787166000-1787175000@awaysis.mx
SUMMARY:Bingo @ Awaysis Rio Bar
DESCRIPTION:DROP-IN-BINGO\n\n\n\nPlay as many or as few games AND as many or as few faces per game as you want!\nEnjoy happy hour drink specials and 100 peso smashburgers!\n\n\n\n\n\nAwaysis Rio Bar helps support Campamento Escuela tortuguero
URL:https://awaysis.mx/event/bingo-awaysis-rio-bar-3/2026-08-19/
LOCATION:Awaysis\, Aquiles Serdán\, 625\, Puerto Vallarta\, Jal\, 48380\, Mexico
ATTACH;FMTTYPE=image/jpeg:https://awaysis.mx/wp-content/uploads/2026/04/Bingo-2-4.jpeg
END:VEVENT
BEGIN:VEVENT
DTSTART;TZID=America/Mexico_City:20260823T190000
DTEND;TZID=America/Mexico_City:20260823T220000
DTSTAMP:20260421T165844
CREATED:20260408T152416Z
LAST-MODIFIED:20260408T152722Z
UID:10013336-1787511600-1787522400@awaysis.mx
SUMMARY:Smart-Ass Trivia @ Awaysis Rio Bar!
DESCRIPTION:You like hanging out with friends and strangers\, showing off how smart you are\, and winning booze and food?\nSo do we!\nJoin us Sunday nights at 7 for Smart-ass Trivia at the cool\, air conditioned\, Awaysis Rio Bar!\nSmart-Ass-in-Chief\, AJ will be here to plumb the depths of your brains with 6 rounds of spoken questions and 1 wild card round. Topics may include general knowledge\, current events\, popular culture\, Vallarta\, history\, sports\, spirits\, art\, music\, literature\, nature… everything from Chimpan-A to Chimpan-Z. Let’s just say it’s broad-ranging.Bring a team \, or if you don’t have one\, we can find a team for you to join (or meet other solo players to form a new super-team)! \nFine print/details/how does this shit work? \nTeams may be up to 6 players. If you have more than 6\, congratulations! You now have 2 rival teams — prepare to have it out\, trivia-style.\nAfter 3 rounds of spoken trivia and the wild card round\, first half scores will be tallied.\nThe team in the lead at the half wins a round of house shots.\nThe overall winning team at the end of the game gets a $500 credit\, either taken off their tab for the night or for use in the future.
URL:https://awaysis.mx/event/smart-ass-trivia-awaysis-rio-bar-2/2026-08-23/
LOCATION:Awaysis Rio Bar\, Rivera del Rio 166\, Puerto Vallarta\, Jalisco\, 48380\, Mexico
ATTACH;FMTTYPE=image/jpeg:https://awaysis.mx/wp-content/uploads/2025/04/sat-for-screen-Large.jpeg
END:VEVENT
BEGIN:VEVENT
DTSTART;TZID=America/Mexico_City:20260824T140000
DTEND;TZID=America/Mexico_City:20260824T230000
DTSTAMP:20260421T165844
CREATED:20260417T220112Z
LAST-MODIFIED:20260417T220112Z
UID:10013467-1787580000-1787612400@awaysis.mx
SUMMARY:Monday ALL DAY HAPPY HOUR @ Awaysis Rio Bar
DESCRIPTION:Monday’s are All Day Happy Hour at the air conditioned Awaysis Rio Bar! \nEnjoy \nCorona/Pacifico 40 pesos \nHouse Margarita 65 pesos \nHouse Wine 60 pesos \nHouse Cocktails 60 pesos
URL:https://awaysis.mx/event/monday-all-day-happy-hour-awaysis-rio-bar/2026-08-24/
LOCATION:Awaysis Rio Bar\, Rivera del Rio 166\, Puerto Vallarta\, Jalisco\, 48380\, Mexico
ATTACH;FMTTYPE=image/jpeg:https://awaysis.mx/wp-content/uploads/2026/04/happy-hour-new-2.jpeg
END:VEVENT
BEGIN:VEVENT
DTSTART;TZID=America/Mexico_City:20260824T143000
DTEND;TZID=America/Mexico_City:20260824T170000
DTSTAMP:20260421T165844
CREATED:20260417T214707Z
LAST-MODIFIED:20260417T214707Z
UID:10013444-1787581800-1787590800@awaysis.mx
SUMMARY:Cribbage Tournaments @ Awaysis Rio Bar
DESCRIPTION:Monday Game Day at the air conditioned Awaysis Rio Bar! Come join us at 2:30 for some fun Cribbage tournaments!  Happy Hour All Day!
URL:https://awaysis.mx/event/cribbage-tournaments-awaysis-rio-bar/2026-08-24/
LOCATION:Awaysis Rio Bar\, Rivera del Rio 166\, Puerto Vallarta\, Jalisco\, 48380\, Mexico
ATTACH;FMTTYPE=image/jpeg:https://awaysis.mx/wp-content/uploads/2026/04/Cribbage-2-4.jpeg
END:VEVENT
BEGIN:VEVENT
DTSTART;TZID=America/Mexico_City:20260825T190000
DTEND;TZID=America/Mexico_City:20260825T223000
DTSTAMP:20260421T165844
CREATED:20260408T150356Z
LAST-MODIFIED:20260408T153104Z
UID:10013360-1787684400-1787697000@awaysis.mx
SUMMARY:Karaoke Night @ Awaysis Rio Bar!
DESCRIPTION:Join us every Tuesday at the air conditioned Awaysis Rio Bar for Karaoke Night from 7-10:30pm with  host\, Carlos!
URL:https://awaysis.mx/event/karaoke-night-awaysis-rio-bar-2-2-2/2026-08-25/
LOCATION:Awaysis Rio Bar\, Rivera del Rio 166\, Puerto Vallarta\, Jalisco\, 48380\, Mexico
ATTACH;FMTTYPE=image/jpeg:https://awaysis.mx/wp-content/uploads/2025/04/karaoke-Carlos-promo.jpeg
END:VEVENT
BEGIN:VEVENT
DTSTART;TZID=America/Mexico_City:20260826T190000
DTEND;TZID=America/Mexico_City:20260826T213000
DTSTAMP:20260421T165844
CREATED:20260413T193318Z
LAST-MODIFIED:20260413T193347Z
UID:10013419-1787770800-1787779800@awaysis.mx
SUMMARY:Bingo @ Awaysis Rio Bar
DESCRIPTION:DROP-IN-BINGO\n\n\n\nPlay as many or as few games AND as many or as few faces per game as you want!\nEnjoy happy hour drink specials and 100 peso smashburgers!\n\n\n\n\n\nAwaysis Rio Bar helps support Campamento Escuela tortuguero
URL:https://awaysis.mx/event/bingo-awaysis-rio-bar-3/2026-08-26/
LOCATION:Awaysis\, Aquiles Serdán\, 625\, Puerto Vallarta\, Jal\, 48380\, Mexico
ATTACH;FMTTYPE=image/jpeg:https://awaysis.mx/wp-content/uploads/2026/04/Bingo-2-4.jpeg
END:VEVENT
BEGIN:VEVENT
DTSTART;TZID=America/Mexico_City:20260830T190000
DTEND;TZID=America/Mexico_City:20260830T220000
DTSTAMP:20260421T165844
CREATED:20260408T152416Z
LAST-MODIFIED:20260408T152722Z
UID:10013337-1788116400-1788127200@awaysis.mx
SUMMARY:Smart-Ass Trivia @ Awaysis Rio Bar!
DESCRIPTION:You like hanging out with friends and strangers\, showing off how smart you are\, and winning booze and food?\nSo do we!\nJoin us Sunday nights at 7 for Smart-ass Trivia at the cool\, air conditioned\, Awaysis Rio Bar!\nSmart-Ass-in-Chief\, AJ will be here to plumb the depths of your brains with 6 rounds of spoken questions and 1 wild card round. Topics may include general knowledge\, current events\, popular culture\, Vallarta\, history\, sports\, spirits\, art\, music\, literature\, nature… everything from Chimpan-A to Chimpan-Z. Let’s just say it’s broad-ranging.Bring a team \, or if you don’t have one\, we can find a team for you to join (or meet other solo players to form a new super-team)! \nFine print/details/how does this shit work? \nTeams may be up to 6 players. If you have more than 6\, congratulations! You now have 2 rival teams — prepare to have it out\, trivia-style.\nAfter 3 rounds of spoken trivia and the wild card round\, first half scores will be tallied.\nThe team in the lead at the half wins a round of house shots.\nThe overall winning team at the end of the game gets a $500 credit\, either taken off their tab for the night or for use in the future.
URL:https://awaysis.mx/event/smart-ass-trivia-awaysis-rio-bar-2/2026-08-30/
LOCATION:Awaysis Rio Bar\, Rivera del Rio 166\, Puerto Vallarta\, Jalisco\, 48380\, Mexico
ATTACH;FMTTYPE=image/jpeg:https://awaysis.mx/wp-content/uploads/2025/04/sat-for-screen-Large.jpeg
END:VEVENT
END:VCALENDAR