BEGIN:VCALENDAR
VERSION:2.0
PRODID:-//Awaysis Bar &amp; Restaurant - ECPv6.15.20//NONSGML v1.0//EN
CALSCALE:GREGORIAN
METHOD:PUBLISH
X-WR-CALNAME:Awaysis Bar &amp; Restaurant
X-ORIGINAL-URL:https://awaysis.mx
X-WR-CALDESC:Events for Awaysis Bar &amp; Restaurant
REFRESH-INTERVAL;VALUE=DURATION:PT1H
X-Robots-Tag:noindex
X-PUBLISHED-TTL:PT1H
BEGIN:VTIMEZONE
TZID:America/Mexico_City
BEGIN:STANDARD
TZOFFSETFROM:-0600
TZOFFSETTO:-0600
TZNAME:CST
DTSTART:20240101T000000
END:STANDARD
END:VTIMEZONE
BEGIN:VEVENT
DTSTART;TZID=America/Mexico_City:20251227T150000
DTEND;TZID=America/Mexico_City:20251227T180000
DTSTAMP:20260422T001428
CREATED:20250917T230957Z
LAST-MODIFIED:20260408T152518Z
UID:10008749-1766847600-1766858400@awaysis.mx
SUMMARY:Live Music: Las Mambas
DESCRIPTION:Las Mambas deliver a clean\, classic rock punch with Yoalli Guerrero at the mic—bold vocals\, tight band\, and an effortless build from toe-taps to full-on dancing. Catch them on every Saturday at 3:00
URL:https://awaysis.mx/event/live-music-las-mambas-2/2025-12-27/
LOCATION:Awaysis\, Aquiles Serdán\, 625\, Puerto Vallarta\, Jal\, 48380\, Mexico
ATTACH;FMTTYPE=image/jpeg:https://awaysis.mx/wp-content/uploads/2025/09/Las-Mambas-2025-2026.jpeg
END:VEVENT
BEGIN:VEVENT
DTSTART;TZID=America/Mexico_City:20251226T190000
DTEND;TZID=America/Mexico_City:20251226T220000
DTSTAMP:20260422T001428
CREATED:20250917T230859Z
LAST-MODIFIED:20260408T151205Z
UID:10008956-1766775600-1766786400@awaysis.mx
SUMMARY:Live Music: The Lovers
DESCRIPTION:Every Friday night at Awaysis catch the unbelievable band\, The Lovers live starting at 7:00!  You don’t want to miss this show!
URL:https://awaysis.mx/event/live-music-the-lovers-2/2025-12-26/
LOCATION:Awaysis\, Aquiles Serdán\, 625\, Puerto Vallarta\, Jal\, 48380\, Mexico
ATTACH;FMTTYPE=image/png:https://awaysis.mx/wp-content/uploads/2024/10/The-Lovers-1-scaled.png
END:VEVENT
BEGIN:VEVENT
DTSTART;TZID=America/Mexico_City:20251226T190000
DTEND;TZID=America/Mexico_City:20251226T220000
DTSTAMP:20260422T001428
CREATED:20250908T203801Z
LAST-MODIFIED:20260408T150128Z
UID:10013082-1766775600-1766786400@awaysis.mx
SUMMARY:Karaoke Night at Awaysis
DESCRIPTION:🎤 Tuesday nights at Awaysis mean karaoke with the one and only Carlos hosting. \nThe fun begins at 7:00 PM and the stage is open to everyone. Whether you are a shower singer\, a secret diva\, or someone who just loves to belt out a tune with friends\, this is your night. Carlos will keep the energy high\, the laughs rolling\, and make sure every brave soul who grabs the mic feels like a star. \nYou can expect a mix of incredible voices\, a few gloriously off-key performances\, and plenty of sing-alongs that will have the whole bar joining in. Cold drinks will be flowing\, and the good times are guaranteed. \nBring your friends\, your favorite song\, and a little courage. The rest will take care of itself.#KaraokeNight  #TheBarForEveryone
URL:https://awaysis.mx/event/karaoke-night-at-awaysis-2/2025-12-26/
LOCATION:Awaysis\, Aquiles Serdán\, 625\, Puerto Vallarta\, Jal\, 48380\, Mexico
ATTACH;FMTTYPE=image/jpeg:https://awaysis.mx/wp-content/uploads/2025/09/karaoke-Carlos-promo-2.jpeg
END:VEVENT
BEGIN:VEVENT
DTSTART;TZID=America/Mexico_City:20251226T150000
DTEND;TZID=America/Mexico_City:20251226T180000
DTSTAMP:20260422T001428
CREATED:20250917T230648Z
LAST-MODIFIED:20260408T151140Z
UID:10008721-1766761200-1766772000@awaysis.mx
SUMMARY:Live Music: Monaco
DESCRIPTION:See Daniel Celis and the amazing Monaco live every Friday from 3-6pm at Awaysis! \nSee more about Monaco: https://www.facebook.com/profile.php?id=61551778941516 \n 
URL:https://awaysis.mx/event/live-music-monaco-2/2025-12-26/
LOCATION:Awaysis\, Aquiles Serdán\, 625\, Puerto Vallarta\, Jal\, 48380\, Mexico
ATTACH;FMTTYPE=image/jpeg:https://awaysis.mx/wp-content/uploads/2025/09/Monaco-2025-2026-scaled.jpeg
END:VEVENT
BEGIN:VEVENT
DTSTART;TZID=America/Mexico_City:20251225T190000
DTEND;TZID=America/Mexico_City:20251225T220000
DTSTAMP:20260422T001428
CREATED:20251217T011219Z
LAST-MODIFIED:20260223T161055Z
UID:10009724-1766689200-1766700000@awaysis.mx
SUMMARY:Music Bingo!
DESCRIPTION:Every Thursday at 7:00\, we’re turning the volume up with Music Bingo at Awaysis. It’s bingo\, but instead of numbers\, you’ve got song titles and artists on your card. We’ll play short clips of familiar hits across different eras and genres\, and if you recognize it\, you mark it. First to get two lines any direction wins prizes and bragging rights. No music knowledge required\, just show up\, grab a drink\, and get ready for lots of “WAIT\, I LOVE THIS SONG!” moments. Come early\, claim your spot\, and let’s make Thursday night loud.
URL:https://awaysis.mx/event/music-bingo/2025-12-25/
LOCATION:Awaysis\, Aquiles Serdán\, 625\, Puerto Vallarta\, Jal\, 48380\, Mexico
ATTACH;FMTTYPE=image/jpeg:https://awaysis.mx/wp-content/uploads/2025/12/Music-Bingo.jpeg
END:VEVENT
BEGIN:VEVENT
DTSTART;TZID=America/Mexico_City:20251225T190000
DTEND;TZID=America/Mexico_City:20251225T210000
DTSTAMP:20260422T001428
CREATED:20250917T230157Z
LAST-MODIFIED:20260316T191344Z
UID:10012739-1766689200-1766696400@awaysis.mx
SUMMARY:Live Music: The Dos Pesos Experience
DESCRIPTION:Join the Dos Pesos Experience featuring Brad Mallett and special guests  performing your favorite country and classic rock hits!  Every Wednesday at 7:00!
URL:https://awaysis.mx/event/acoustic-wednesdays-with-dos-pesos-special-time-this-week-2/2025-12-25/
LOCATION:Awaysis\, Aquiles Serdán\, 625\, Puerto Vallarta\, Jal\, 48380\, Mexico
ATTACH;FMTTYPE=image/png:https://awaysis.mx/wp-content/uploads/2025/09/6d2dfcf398aa7e2d936671b285ecf55a.png
END:VEVENT
BEGIN:VEVENT
DTSTART;TZID=America/Mexico_City:20251223T190000
DTEND;TZID=America/Mexico_City:20251223T220000
DTSTAMP:20260422T001428
CREATED:20250908T203801Z
LAST-MODIFIED:20260408T150128Z
UID:10013081-1766516400-1766527200@awaysis.mx
SUMMARY:Karaoke Night at Awaysis
DESCRIPTION:🎤 Tuesday nights at Awaysis mean karaoke with the one and only Carlos hosting. \nThe fun begins at 7:00 PM and the stage is open to everyone. Whether you are a shower singer\, a secret diva\, or someone who just loves to belt out a tune with friends\, this is your night. Carlos will keep the energy high\, the laughs rolling\, and make sure every brave soul who grabs the mic feels like a star. \nYou can expect a mix of incredible voices\, a few gloriously off-key performances\, and plenty of sing-alongs that will have the whole bar joining in. Cold drinks will be flowing\, and the good times are guaranteed. \nBring your friends\, your favorite song\, and a little courage. The rest will take care of itself.#KaraokeNight  #TheBarForEveryone
URL:https://awaysis.mx/event/karaoke-night-at-awaysis-2/2025-12-23/
LOCATION:Awaysis\, Aquiles Serdán\, 625\, Puerto Vallarta\, Jal\, 48380\, Mexico
ATTACH;FMTTYPE=image/jpeg:https://awaysis.mx/wp-content/uploads/2025/09/karaoke-Carlos-promo-2.jpeg
END:VEVENT
BEGIN:VEVENT
DTSTART;TZID=America/Mexico_City:20251223T150000
DTEND;TZID=America/Mexico_City:20251223T173000
DTSTAMP:20260422T001428
CREATED:20250908T204927Z
LAST-MODIFIED:20260408T145855Z
UID:10008806-1766502000-1766511000@awaysis.mx
SUMMARY:Awaysis Bingo Tuesdays
DESCRIPTION:DROP-IN-BINGO\n\n\n\nPlay as many or as few games AND as many or as few faces per game as you want!\n\n\n\n\n\nFood Available from The Chicken Coop at Awaysis. Yummy!\n\n\nAwaysis helps support Campamento Escuela tortuguero (turtle rescue) for more information visit our facebook page.
URL:https://awaysis.mx/event/awaysis-bingo-tuesdays-2/2025-12-23/
LOCATION:Awaysis\, Aquiles Serdán\, 625\, Puerto Vallarta\, Jal\, 48380\, Mexico
ATTACH;FMTTYPE=image/jpeg:https://awaysis.mx/wp-content/uploads/2024/11/Bingo-2-3.jpeg
END:VEVENT
BEGIN:VEVENT
DTSTART;TZID=America/Mexico_City:20251223T120000
DTEND;TZID=America/Mexico_City:20251223T150000
DTSTAMP:20260422T001428
CREATED:20250908T213627Z
LAST-MODIFIED:20260408T145815Z
UID:10008836-1766491200-1766502000@awaysis.mx
SUMMARY:Awaysis Game Day! Cribbage Tournament Tuesdays!
DESCRIPTION:Tuesday Game day at Awaysis! Come join us at 12:00 for some fun Cribbage tournaments with your host Kelly Shannon Gauthier! \nIf you have an extra board\, bring it along !
URL:https://awaysis.mx/event/awaysis-game-day-cribbage-tournament-tuesdays/2025-12-23/
LOCATION:Awaysis\, Aquiles Serdán\, 625\, Puerto Vallarta\, Jal\, 48380\, Mexico
ATTACH;FMTTYPE=image/jpeg:https://awaysis.mx/wp-content/uploads/2025/09/Cribbage-2-3.jpeg
END:VEVENT
BEGIN:VEVENT
DTSTART;TZID=America/Mexico_City:20251221T150000
DTEND;TZID=America/Mexico_City:20251221T180000
DTSTAMP:20260422T001428
CREATED:20251102T235425Z
LAST-MODIFIED:20260408T151950Z
UID:10009113-1766329200-1766340000@awaysis.mx
SUMMARY:Live Music: The Availables
DESCRIPTION:Sundays at 3:00 belong to The Availables. This is a live-music sweet spot: warm harmonies\, familiar songs reimagined\, and just enough groove to get the tables swaying. Whether you’re dropping in solo or rolling deep with friends\, The Availables deliver an afternoon set that feels like exactly where you’re meant to be. See you at Awaysis—every Sunday. #TheBarForEveryone
URL:https://awaysis.mx/event/live-music-the-availables-2/2025-12-21/
LOCATION:Awaysis\, Aquiles Serdán\, 625\, Puerto Vallarta\, Jal\, 48380\, Mexico
ATTACH;FMTTYPE=image/jpeg:https://awaysis.mx/wp-content/uploads/2025/11/Availables-2025-2026-1-3.jpeg
END:VEVENT
BEGIN:VEVENT
DTSTART;TZID=America/Mexico_City:20251220T190000
DTEND;TZID=America/Mexico_City:20251220T220000
DTSTAMP:20260422T001428
CREATED:20250917T231039Z
LAST-MODIFIED:20260408T151921Z
UID:10008692-1766257200-1766268000@awaysis.mx
SUMMARY:Live Music: Bobbi + The Others
DESCRIPTION:Dust off your dancing boots and be ready to two-step all evening with Bobbi and the Others country-rock band Saturdays 7-10pm
URL:https://awaysis.mx/event/live-music-bobbi-the-others-2/2025-12-20/
LOCATION:Awaysis\, Aquiles Serdán\, 625\, Puerto Vallarta\, Jal\, 48380\, Mexico
ATTACH;FMTTYPE=image/jpeg:https://awaysis.mx/wp-content/uploads/2025/09/att.jotpCMwUApjyTWoV5sAAoiVeCI99JGKalL_TgcVUhi8.png.jpeg
END:VEVENT
BEGIN:VEVENT
DTSTART;TZID=America/Mexico_City:20251220T150000
DTEND;TZID=America/Mexico_City:20251220T180000
DTSTAMP:20260422T001428
CREATED:20250917T230957Z
LAST-MODIFIED:20260408T152518Z
UID:10008748-1766242800-1766253600@awaysis.mx
SUMMARY:Live Music: Las Mambas
DESCRIPTION:Las Mambas deliver a clean\, classic rock punch with Yoalli Guerrero at the mic—bold vocals\, tight band\, and an effortless build from toe-taps to full-on dancing. Catch them on every Saturday at 3:00
URL:https://awaysis.mx/event/live-music-las-mambas-2/2025-12-20/
LOCATION:Awaysis\, Aquiles Serdán\, 625\, Puerto Vallarta\, Jal\, 48380\, Mexico
ATTACH;FMTTYPE=image/jpeg:https://awaysis.mx/wp-content/uploads/2025/09/Las-Mambas-2025-2026.jpeg
END:VEVENT
BEGIN:VEVENT
DTSTART;TZID=America/Mexico_City:20251220T130000
DTEND;TZID=America/Mexico_City:20251220T143000
DTSTAMP:20260422T001428
CREATED:20251105T011623Z
LAST-MODIFIED:20251209T195437Z
UID:10009135-1766235600-1766241000@awaysis.mx
SUMMARY:Brunch Live Music: Kim Archer
DESCRIPTION:Join us for a special Saturday brunch show with the fabulous Kim Archer! \nKnown for her soulful\, unfiltered performances and genuine connection with audiences\nKim Archer has spent over two decades sharing music that comes straight from the heart.\nFrom the Midwest to the Pacific Northwest\, Mexico\, and beyond\, she has built\na loyal community of fans who connect with the honesty and emotion in every song she sings. \nWhether standing alone on stage with just her guitar or filling the room\nwith a powerful vocal moment with her band\, her goal is always the same\n—to make every performance real\, raw\, and unforgettable. \nHappy Hour drink prices and 100 peso breakfast specials available.
URL:https://awaysis.mx/event/brunch-live-music-kim-archer/
LOCATION:Awaysis\, Aquiles Serdán\, 625\, Puerto Vallarta\, Jal\, 48380\, Mexico
ATTACH;FMTTYPE=image/jpeg:https://awaysis.mx/wp-content/uploads/2025/11/Untitled-4.jpeg
END:VEVENT
BEGIN:VEVENT
DTSTART;TZID=America/Mexico_City:20251219T190000
DTEND;TZID=America/Mexico_City:20251219T220000
DTSTAMP:20260422T001428
CREATED:20250917T230859Z
LAST-MODIFIED:20260408T151205Z
UID:10008955-1766170800-1766181600@awaysis.mx
SUMMARY:Live Music: The Lovers
DESCRIPTION:Every Friday night at Awaysis catch the unbelievable band\, The Lovers live starting at 7:00!  You don’t want to miss this show!
URL:https://awaysis.mx/event/live-music-the-lovers-2/2025-12-19/
LOCATION:Awaysis\, Aquiles Serdán\, 625\, Puerto Vallarta\, Jal\, 48380\, Mexico
ATTACH;FMTTYPE=image/png:https://awaysis.mx/wp-content/uploads/2024/10/The-Lovers-1-scaled.png
END:VEVENT
BEGIN:VEVENT
DTSTART;TZID=America/Mexico_City:20251219T190000
DTEND;TZID=America/Mexico_City:20251219T220000
DTSTAMP:20260422T001428
CREATED:20250908T203801Z
LAST-MODIFIED:20260408T150128Z
UID:10013080-1766170800-1766181600@awaysis.mx
SUMMARY:Karaoke Night at Awaysis
DESCRIPTION:🎤 Tuesday nights at Awaysis mean karaoke with the one and only Carlos hosting. \nThe fun begins at 7:00 PM and the stage is open to everyone. Whether you are a shower singer\, a secret diva\, or someone who just loves to belt out a tune with friends\, this is your night. Carlos will keep the energy high\, the laughs rolling\, and make sure every brave soul who grabs the mic feels like a star. \nYou can expect a mix of incredible voices\, a few gloriously off-key performances\, and plenty of sing-alongs that will have the whole bar joining in. Cold drinks will be flowing\, and the good times are guaranteed. \nBring your friends\, your favorite song\, and a little courage. The rest will take care of itself.#KaraokeNight  #TheBarForEveryone
URL:https://awaysis.mx/event/karaoke-night-at-awaysis-2/2025-12-19/
LOCATION:Awaysis\, Aquiles Serdán\, 625\, Puerto Vallarta\, Jal\, 48380\, Mexico
ATTACH;FMTTYPE=image/jpeg:https://awaysis.mx/wp-content/uploads/2025/09/karaoke-Carlos-promo-2.jpeg
END:VEVENT
BEGIN:VEVENT
DTSTART;TZID=America/Mexico_City:20251219T150000
DTEND;TZID=America/Mexico_City:20251219T180000
DTSTAMP:20260422T001428
CREATED:20250917T230648Z
LAST-MODIFIED:20260408T151140Z
UID:10008720-1766156400-1766167200@awaysis.mx
SUMMARY:Live Music: Monaco
DESCRIPTION:See Daniel Celis and the amazing Monaco live every Friday from 3-6pm at Awaysis! \nSee more about Monaco: https://www.facebook.com/profile.php?id=61551778941516 \n 
URL:https://awaysis.mx/event/live-music-monaco-2/2025-12-19/
LOCATION:Awaysis\, Aquiles Serdán\, 625\, Puerto Vallarta\, Jal\, 48380\, Mexico
ATTACH;FMTTYPE=image/jpeg:https://awaysis.mx/wp-content/uploads/2025/09/Monaco-2025-2026-scaled.jpeg
END:VEVENT
BEGIN:VEVENT
DTSTART;TZID=America/Mexico_City:20251218T190000
DTEND;TZID=America/Mexico_City:20251218T220000
DTSTAMP:20260422T001428
CREATED:20251217T011219Z
LAST-MODIFIED:20260223T161055Z
UID:10009723-1766084400-1766095200@awaysis.mx
SUMMARY:Music Bingo!
DESCRIPTION:Every Thursday at 7:00\, we’re turning the volume up with Music Bingo at Awaysis. It’s bingo\, but instead of numbers\, you’ve got song titles and artists on your card. We’ll play short clips of familiar hits across different eras and genres\, and if you recognize it\, you mark it. First to get two lines any direction wins prizes and bragging rights. No music knowledge required\, just show up\, grab a drink\, and get ready for lots of “WAIT\, I LOVE THIS SONG!” moments. Come early\, claim your spot\, and let’s make Thursday night loud.
URL:https://awaysis.mx/event/music-bingo/2025-12-18/
LOCATION:Awaysis\, Aquiles Serdán\, 625\, Puerto Vallarta\, Jal\, 48380\, Mexico
ATTACH;FMTTYPE=image/jpeg:https://awaysis.mx/wp-content/uploads/2025/12/Music-Bingo.jpeg
END:VEVENT
BEGIN:VEVENT
DTSTART;TZID=America/Mexico_City:20251218T190000
DTEND;TZID=America/Mexico_City:20251218T210000
DTSTAMP:20260422T001428
CREATED:20251127T212846Z
LAST-MODIFIED:20251209T195629Z
UID:10009172-1766084400-1766091600@awaysis.mx
SUMMARY:Holiday Special with Stolie
DESCRIPTION:Stolie brings Acoustic and Live Loops\, Holiday Spirits\, and Christmas Beer… I mean\, Cheer!
URL:https://awaysis.mx/event/holiday-special-with-stolie/
LOCATION:Awaysis\, Aquiles Serdán\, 625\, Puerto Vallarta\, Jal\, 48380\, Mexico
ATTACH;FMTTYPE=image/jpeg:https://awaysis.mx/wp-content/uploads/2025/11/ee464d7c-a080-4955-9fd8-a2301d7366fb.jpg
END:VEVENT
BEGIN:VEVENT
DTSTART;TZID=America/Mexico_City:20251218T190000
DTEND;TZID=America/Mexico_City:20251218T210000
DTSTAMP:20260422T001428
CREATED:20250917T230157Z
LAST-MODIFIED:20260316T191344Z
UID:10012738-1766084400-1766091600@awaysis.mx
SUMMARY:Live Music: The Dos Pesos Experience
DESCRIPTION:Join the Dos Pesos Experience featuring Brad Mallett and special guests  performing your favorite country and classic rock hits!  Every Wednesday at 7:00!
URL:https://awaysis.mx/event/acoustic-wednesdays-with-dos-pesos-special-time-this-week-2/2025-12-18/
LOCATION:Awaysis\, Aquiles Serdán\, 625\, Puerto Vallarta\, Jal\, 48380\, Mexico
ATTACH;FMTTYPE=image/png:https://awaysis.mx/wp-content/uploads/2025/09/6d2dfcf398aa7e2d936671b285ecf55a.png
END:VEVENT
BEGIN:VEVENT
DTSTART;TZID=America/Mexico_City:20251218T150000
DTEND;TZID=America/Mexico_City:20251218T180000
DTSTAMP:20260422T001428
CREATED:20251013T232912Z
LAST-MODIFIED:20260330T161312Z
UID:10009087-1766070000-1766080800@awaysis.mx
SUMMARY:Live Music: Velvet Storm
DESCRIPTION:The hottest new band in Puerto Vallarta playing every Thursday at 3:00 \n\n\n\nVelvet Storm plays  various musical genres such as classic rock\, oldies\, blues\, country rock\, glam rock\, metal\, disco/pop\, etc. The band started in September 2025 and consists of 5 members that are well known in the Puerto Vallarta music scene. 
URL:https://awaysis.mx/event/live-music-velvet-storm/2025-12-18/
LOCATION:Awaysis\, Aquiles Serdán\, 625\, Puerto Vallarta\, Jal\, 48380\, Mexico
ATTACH;FMTTYPE=image/jpeg:https://awaysis.mx/wp-content/uploads/2025/10/Velvet-Storm-1.jpeg
END:VEVENT
BEGIN:VEVENT
DTSTART;TZID=America/Mexico_City:20251217T190000
DTEND;TZID=America/Mexico_City:20251217T220000
DTSTAMP:20260422T001428
CREATED:20251105T223211Z
LAST-MODIFIED:20251211T224724Z
UID:10009136-1765998000-1766008800@awaysis.mx
SUMMARY:The Good Ones Acoustic
DESCRIPTION:Join us Wednesday\, December 17 for a one night special show from The Good Ones Acoustic featuring Eli & Diego . \n 
URL:https://awaysis.mx/event/live-music-the-good-ones/
LOCATION:Awaysis\, Aquiles Serdán\, 625\, Puerto Vallarta\, Jal\, 48380\, Mexico
ATTACH;FMTTYPE=image/jpeg:https://awaysis.mx/wp-content/uploads/2025/11/Eli-Diego.jpeg
END:VEVENT
BEGIN:VEVENT
DTSTART;TZID=America/Mexico_City:20251217T150000
DTEND;TZID=America/Mexico_City:20251217T180000
DTSTAMP:20260422T001428
CREATED:20250919T194431Z
LAST-MODIFIED:20260226T012012Z
UID:10009014-1765983600-1765994400@awaysis.mx
SUMMARY:Live Music: Los Wendigos
DESCRIPTION:It’s country music Wednesdays at Awaysis featuring the bluegrass country sensation\, Los Wendigos!  One of the most unique bands in Puerto Vallarta complete with fiddle\, banjo\, mandolin and washboard players.  Truly an experience you don’t want to miss!
URL:https://awaysis.mx/event/live-music-los-wendigos/2025-12-17/
LOCATION:Awaysis\, Aquiles Serdán\, 625\, Puerto Vallarta\, Jal\, 48380\, Mexico
ATTACH;FMTTYPE=image/jpeg:https://awaysis.mx/wp-content/uploads/2025/09/WhatsApp-Image-2024-04-03-at-9.09.50-PM-e1758249519523.jpeg
END:VEVENT
BEGIN:VEVENT
DTSTART;TZID=America/Mexico_City:20251216T190000
DTEND;TZID=America/Mexico_City:20251216T220000
DTSTAMP:20260422T001428
CREATED:20250908T203801Z
LAST-MODIFIED:20260408T150128Z
UID:10013079-1765911600-1765922400@awaysis.mx
SUMMARY:Karaoke Night at Awaysis
DESCRIPTION:🎤 Tuesday nights at Awaysis mean karaoke with the one and only Carlos hosting. \nThe fun begins at 7:00 PM and the stage is open to everyone. Whether you are a shower singer\, a secret diva\, or someone who just loves to belt out a tune with friends\, this is your night. Carlos will keep the energy high\, the laughs rolling\, and make sure every brave soul who grabs the mic feels like a star. \nYou can expect a mix of incredible voices\, a few gloriously off-key performances\, and plenty of sing-alongs that will have the whole bar joining in. Cold drinks will be flowing\, and the good times are guaranteed. \nBring your friends\, your favorite song\, and a little courage. The rest will take care of itself.#KaraokeNight  #TheBarForEveryone
URL:https://awaysis.mx/event/karaoke-night-at-awaysis-2/2025-12-16/
LOCATION:Awaysis\, Aquiles Serdán\, 625\, Puerto Vallarta\, Jal\, 48380\, Mexico
ATTACH;FMTTYPE=image/jpeg:https://awaysis.mx/wp-content/uploads/2025/09/karaoke-Carlos-promo-2.jpeg
END:VEVENT
BEGIN:VEVENT
DTSTART;TZID=America/Mexico_City:20251216T150000
DTEND;TZID=America/Mexico_City:20251216T173000
DTSTAMP:20260422T001428
CREATED:20250908T204927Z
LAST-MODIFIED:20260408T145855Z
UID:10008805-1765897200-1765906200@awaysis.mx
SUMMARY:Awaysis Bingo Tuesdays
DESCRIPTION:DROP-IN-BINGO\n\n\n\nPlay as many or as few games AND as many or as few faces per game as you want!\n\n\n\n\n\nFood Available from The Chicken Coop at Awaysis. Yummy!\n\n\nAwaysis helps support Campamento Escuela tortuguero (turtle rescue) for more information visit our facebook page.
URL:https://awaysis.mx/event/awaysis-bingo-tuesdays-2/2025-12-16/
LOCATION:Awaysis\, Aquiles Serdán\, 625\, Puerto Vallarta\, Jal\, 48380\, Mexico
ATTACH;FMTTYPE=image/jpeg:https://awaysis.mx/wp-content/uploads/2024/11/Bingo-2-3.jpeg
END:VEVENT
BEGIN:VEVENT
DTSTART;TZID=America/Mexico_City:20251216T120000
DTEND;TZID=America/Mexico_City:20251216T150000
DTSTAMP:20260422T001428
CREATED:20250908T213627Z
LAST-MODIFIED:20260408T145815Z
UID:10008835-1765886400-1765897200@awaysis.mx
SUMMARY:Awaysis Game Day! Cribbage Tournament Tuesdays!
DESCRIPTION:Tuesday Game day at Awaysis! Come join us at 12:00 for some fun Cribbage tournaments with your host Kelly Shannon Gauthier! \nIf you have an extra board\, bring it along !
URL:https://awaysis.mx/event/awaysis-game-day-cribbage-tournament-tuesdays/2025-12-16/
LOCATION:Awaysis\, Aquiles Serdán\, 625\, Puerto Vallarta\, Jal\, 48380\, Mexico
ATTACH;FMTTYPE=image/jpeg:https://awaysis.mx/wp-content/uploads/2025/09/Cribbage-2-3.jpeg
END:VEVENT
BEGIN:VEVENT
DTSTART;TZID=America/Mexico_City:20251214T190000
DTEND;TZID=America/Mexico_City:20251214T220000
DTSTAMP:20260422T001428
CREATED:20260408T152159Z
LAST-MODIFIED:20260408T152200Z
UID:10013281-1765738800-1765749600@awaysis.mx
SUMMARY:Smart-Ass Trivia at Awaysis
DESCRIPTION:You like hanging out with friends and strangers\, showing off how smart you are\, and winning booze and food?\nSo do we!\nJoin us Sunday nights at 7 for Smart-ass Trivia at Awaysis!\nSmart-Ass-in-Chief\, AJ will be here to plumb the depths of your brains with 6 rounds of spoken questions and 1 wild card round. Topics may include general knowledge\, current events\, popular culture\, Vallarta\, history\, sports\, spirits\, art\, music\, literature\, nature… everything from Chimpan-A to Chimpan-Z. Let’s just say it’s broad-ranging.Bring a team \, or if you don’t have one\, we can find a team for you to join (or meet other solo players to form a new super-team)! \nFine print/details/how does this shit work? \nTeams may be up to 6 players. If you have more than 6\, congratulations! You now have 2 rival teams — prepare to have it out\, trivia-style.\nAfter 3 rounds of spoken trivia and the wild card round\, first half scores will be tallied.\nThe team in the lead at the half wins a round of house shots.\nThe overall winning team at the end of the game gets a $500 credit\, either taken off their tab for the night or for use in the future.
URL:https://awaysis.mx/event/smart-ass-trivia-at-awaysis-2/2025-12-14/
LOCATION:Awaysis\, Aquiles Serdán\, 625\, Puerto Vallarta\, Jal\, 48380\, Mexico
ATTACH;FMTTYPE=image/jpeg:https://awaysis.mx/wp-content/uploads/2025/09/SAT-for-screen.jpg
END:VEVENT
BEGIN:VEVENT
DTSTART;TZID=America/Mexico_City:20251214T190000
DTEND;TZID=America/Mexico_City:20251214T220000
DTSTAMP:20260422T001428
CREATED:20250908T214501Z
LAST-MODIFIED:20260316T191618Z
UID:10008865-1765738800-1765749600@awaysis.mx
SUMMARY:Smart-Ass Trivia at Awaysis
DESCRIPTION:You like hanging out with friends and strangers\, showing off how smart you are\, and winning booze and food?\nSo do we!\nJoin us Sunday nights at 7 for Smart-ass Trivia at Awaysis!\nSmart-Ass-in-Chief\, AJ will be here to plumb the depths of your brains with 6 rounds of spoken questions and 1 wild card round. Topics may include general knowledge\, current events\, popular culture\, Vallarta\, history\, sports\, spirits\, art\, music\, literature\, nature… everything from Chimpan-A to Chimpan-Z. Let’s just say it’s broad-ranging.Bring a team \, or if you don’t have one\, we can find a team for you to join (or meet other solo players to form a new super-team)! \nFine print/details/how does this shit work? \nTeams may be up to 6 players. If you have more than 6\, congratulations! You now have 2 rival teams — prepare to have it out\, trivia-style.\nAfter 3 rounds of spoken trivia and the wild card round\, first half scores will be tallied.\nThe team in the lead at the half wins a round of house shots.\nThe overall winning team at the end of the game gets a $500 credit\, either taken off their tab for the night or for use in the future.
URL:https://awaysis.mx/event/smart-ass-trivia-at-awaysis/2025-12-14/
LOCATION:Awaysis\, Aquiles Serdán\, 625\, Puerto Vallarta\, Jal\, 48380\, Mexico
ATTACH;FMTTYPE=image/jpeg:https://awaysis.mx/wp-content/uploads/2025/09/SAT-for-screen.jpg
END:VEVENT
BEGIN:VEVENT
DTSTART;TZID=America/Mexico_City:20251214T150000
DTEND;TZID=America/Mexico_City:20251214T180000
DTSTAMP:20260422T001428
CREATED:20251102T235425Z
LAST-MODIFIED:20260408T151950Z
UID:10009112-1765724400-1765735200@awaysis.mx
SUMMARY:Live Music: The Availables
DESCRIPTION:Sundays at 3:00 belong to The Availables. This is a live-music sweet spot: warm harmonies\, familiar songs reimagined\, and just enough groove to get the tables swaying. Whether you’re dropping in solo or rolling deep with friends\, The Availables deliver an afternoon set that feels like exactly where you’re meant to be. See you at Awaysis—every Sunday. #TheBarForEveryone
URL:https://awaysis.mx/event/live-music-the-availables-2/2025-12-14/
LOCATION:Awaysis\, Aquiles Serdán\, 625\, Puerto Vallarta\, Jal\, 48380\, Mexico
ATTACH;FMTTYPE=image/jpeg:https://awaysis.mx/wp-content/uploads/2025/11/Availables-2025-2026-1-3.jpeg
END:VEVENT
BEGIN:VEVENT
DTSTART;TZID=America/Mexico_City:20251213T190000
DTEND;TZID=America/Mexico_City:20251213T220000
DTSTAMP:20260422T001428
CREATED:20250917T231039Z
LAST-MODIFIED:20260408T151921Z
UID:10008691-1765652400-1765663200@awaysis.mx
SUMMARY:Live Music: Bobbi + The Others
DESCRIPTION:Dust off your dancing boots and be ready to two-step all evening with Bobbi and the Others country-rock band Saturdays 7-10pm
URL:https://awaysis.mx/event/live-music-bobbi-the-others-2/2025-12-13/
LOCATION:Awaysis\, Aquiles Serdán\, 625\, Puerto Vallarta\, Jal\, 48380\, Mexico
ATTACH;FMTTYPE=image/jpeg:https://awaysis.mx/wp-content/uploads/2025/09/att.jotpCMwUApjyTWoV5sAAoiVeCI99JGKalL_TgcVUhi8.png.jpeg
END:VEVENT
BEGIN:VEVENT
DTSTART;TZID=America/Mexico_City:20251213T150000
DTEND;TZID=America/Mexico_City:20251213T180000
DTSTAMP:20260422T001428
CREATED:20250917T230957Z
LAST-MODIFIED:20260408T152518Z
UID:10008747-1765638000-1765648800@awaysis.mx
SUMMARY:Live Music: Las Mambas
DESCRIPTION:Las Mambas deliver a clean\, classic rock punch with Yoalli Guerrero at the mic—bold vocals\, tight band\, and an effortless build from toe-taps to full-on dancing. Catch them on every Saturday at 3:00
URL:https://awaysis.mx/event/live-music-las-mambas-2/2025-12-13/
LOCATION:Awaysis\, Aquiles Serdán\, 625\, Puerto Vallarta\, Jal\, 48380\, Mexico
ATTACH;FMTTYPE=image/jpeg:https://awaysis.mx/wp-content/uploads/2025/09/Las-Mambas-2025-2026.jpeg
END:VEVENT
END:VCALENDAR